Workbook
Name _ftn1: 'eMaris CoC24'!#REF!
Name _ftnref1: 'eMaris CoC24'!$H$21
Name _Hlk116635702: 'eMaris CoC24'!$H$54
Name _Hlk116727610: 'eMaris CoC24'!#REF!
Name _Hlk116736973: 'eMaris CoC24'!#REF!
Name _Hlk116737492: 'eMaris CoC24'!#REF!
Name _Hlk116739192: 'eMaris CoC24'!$N$65
Name _Hlk116739606: 'eMaris CoC24'!$N$66
Name _Hlk116740253: 'eMaris CoC24'!$N$69
Name _Hlk116741416: 'eMaris CoC24'!#REF!
Name _Hlk116742617: 'eMaris CoC24'!$N$87
Name _Hlk116743883: 'eMaris CoC24'!$N$89
Name _Hlk116744290: 'eMaris CoC24'!$N$91
Name _Hlk116746081: 'eMaris CoC24'!$N$92
Name _Hlk116747015: 'eMaris CoC24'!$N$93
Name _Hlk116747336: 'eMaris CoC24'!$N$94
Name _Hlk116752046: 'eMaris CoC24'!$N$95
Name _Hlk116806891: 'eMaris CoC24'!$N$107
Name _Hlk116811918: 'eMaris CoC24'!$N$119
Name _Hlk116812434: 'eMaris CoC24'!$N$121
Name _Hlk116813654: 'eMaris CoC24'!$N$124
Name _Hlk116813852: 'eMaris CoC24'!$N$125
Name _Hlk116815170: 'eMaris CoC24'!#REF!
Name _Hlk116816144: 'eMaris CoC24'!$N$136
Name _Hlk116818691: 'eMaris CoC24'!$N$137
Name _Hlk117152103: 'eMaris CoC24'!#REF!
Name _Hlk117154624: 'eMaris CoC24'!#REF!
Name _Hlk117170142: 'eMaris CoC24'!#REF!
Name _Hlk117242449: 'eMaris CoC24'!#REF!
Name _Hlk117435139: 'eMaris CoC24'!$H$135

Sheet eMaris CoC24
S1: Version | T1: Date
S2: 1 | T2: 45642 | V2: CPC Included | W2: =SUM(X16:X146) -> 2350
S3: 2 | T3: 45674 | V3: CPC Excluded - Automatic N/A | W3: =SUM(W16:W146) -> 1074
S4: 3 | T4: 45775
B7: REQ Count | E7: REQ in | H7: Number of SP | I7: =COUNTIF(I16:I165,"SP") -> 42 | M7: Reporting efforts by deadline type | O7: 2 | P7: DATE IR | Q7: 12.03.2027
B8: Assessed | C8: =COUNTIF(F15:F193,"x") -> 92 | E8: IR | F8: =COUNTIF(C15:C193,"IR") -> 32 | H8: Number of SP N/A | I8: =COUNTIF(I16:I165,"N/A") -> 51 | L8: Deadline | M8: IR | N8: =COUNTIF(N16:N142,"Same as IR") -> 33 | P8: DATE CQ | Q8: 20.02.2027
B9: Not assessed | C9: =COUNTIF(G15:G193,"x") -> 13 | E9: CQ | F9: =COUNTIF(D15:D193,"CQ") -> 72 | L9: Deadline | M9: CQ | N9: =COUNTIF(N16:N142,"Same as CQ") -> 56 | P9: Final date defined at Commission meeting | S9: E-MARIS functionnality to define the audience for each requirement | T9: E-MARIS functionnality to define the audience for each requirement | V9: e-MARIS user: | W9: 32
E10: CR | F10: =COUNTIF(E15:E193,"CR") -> 92 | L10: Deadline | M10: Fixed date | N10: =COUNTIF(N15:N173,"Fixed date") -> 27 | S10: To exclude CPC from a Requirement | T10: To include CPC in a Requirement
N11: =N8+N9+N10 -> 116
D12: e-MARIS buiding report
A13: Count N° REQ | B13: CR N° e-MARIS REQ number | C13: IR | D13: CQ | E13: CR | F13: Assessed | G13: Not Assessed | H13: E-MARIS Individual Requirement | I13: SP Yes - SP N/A - NO SP | J13: LEG Assess | K13: STD Assess | L13: SP Assess | M13: Count CPC Excluded Automatic N/A | N13: DeadLine IOTC texts, Resolutions (When defined) | O13: Source IOTC text Agreement RoP Resolution - paragraph(s) | P13: CoC23 Deadline e-MARIS Date | Q13: SP Description To monitor and ensure compliance persons/vessels with | R13: Recall functionnality Part A - SP Part B - DATA Part C - LEG | S13: Exclude means: 1. Not applicable for all listed CPCs - Reporting in e-MARIS not possible -> Auto-assessment N/A 2. Applicable for CPCs not listed - Reporting in e-MARIS CPC excluded will see the REQ in the dashboard BUT it will be marked in GREY | T13: Include means: 1. Applicable for all listed CPCs - Reporting in e-MARIS 2. Not Applicable for all other, not listed, CPCs (Excluded) - Reporting in e-MARIS not possible -> Auto-assessment N/A CPC not listed will see the REQ in the dashboard BUT it will be marked in GREY | U13: SP type Column ''I'' | V13: Reason for exclusion: | W13: Count CPC Excluded Automatic N/A | X13: Count CPC Included | Y13: VERIFICATION
B14: Total | C14: =COUNTIF(C17:C165,"IR") -> 32 | D14: =COUNTIF(D16:D165,"CQ") -> 72 | E14: =COUNTIF(E16:E165,"CR") -> 92 | F14: =COUNTIF(F16:F165,"X") -> 92 | G14: =COUNTIF(G16:G165,"x") -> 13
B15: 1 - Implementation obligations / Obligations de mise en œuvre
A16: 1 | B16: 1.1 | E16: CR | F16: x | H16: Report of Implementation (e-MARIS REPORT) | I16: N/A | J16: NO | K16: YES | L16: NO | N16: Same as IR | O16: Art. X Agreement Session 60d | P16: =Q7 -> 12.03.2027 | R16: N/A | S16: NONE | T16: ALL - AUS BDG CHN COM EUR FRAOT IND IDN IRN JPN KEN KOR LBR MDG MYS MDV MUS MOZ OMN PAK PAN PHL SYC SOM ZAF LKA SDN TWNCHN TZA THA UK YEM | U16: =I16 -> N/A | V16: N/A (IR is mandatory for all CPCs) | W16: =M16 -> 0 | X16: =W9-W16 -> 32 | Y16: =W16+X16 -> 32
A17: 2 | B17: 1.2 | E17: CR | F17: x | H17: Compliance Questionnaire (e-MARIS REPORT) | I17: N/A | J17: NO | K17: YES | L17: NO | N17: Same as CQ | O17: Rules Of Procedure V Session 80d | P17: =Q8 -> 20.02.2027 | R17: N/A | S17: NONE | T17: ALL - AUS BDG CHN COM EUR FRAOT IND IDN IRN JPN KEN KOR LBR MDG MYS MDV MUS MOZ OMN PAK PAN PHL SYC SOM ZAF LKA SDN TWNCHN TZA THA UK YEM | U17: =I17 -> N/A | V17: N/A (IR is mandatory for all CPCs) | W17: =M17 -> 0 | X17: =W9-W17 -> 32 | Y17: =W17+X17 -> 32
A18: 3 | B18: 1.3 | D18: CQ | E18: CR | F18: x | H18: National Scientific Report | I18: N/A | J18: NO | K18: YES | L18: NO | N18: Fixed date | O18: SC04 (111) | P18: 16.11.2026 | R18: N/A | S18: NONE | T18: ALL - AUS BDG CHN COM EUR FRAOT IND IDN IRN JPN KEN KOR LBR MDG MYS MDV MUS MOZ OMN PAK PAN PHL SYC SOM ZAF LKA SDN TWNCHN TZA THA UK YEM | U18: =I18 -> N/A | V18: N/A | W18: =M18 -> 0 | X18: =W9-W18 -> 32 | Y18: =W18+X18 -> 32
A19: 4 | B19: 1.4 | D19: CQ | E19: CR | F19: x | H19: Compliance Action Plan | I19: N/A | J19: NO | K19: YES | L19: NO | N19: Fixed date | O19: RoP Appendix V Annex A | P19: 18.07.2026 | R19: N/A | S19: To be defined after Commission meeting CPCs without NC2 identified | T19: To be defined after Commission meeting CPCs with NC2 identified | U19: =I19 -> N/A | V19: NO non-compliance of category 2 identified at previous Compliance Committee. | W19: =M19 -> 0 | X19: =W9-W19 -> 32 | Y19: =W19+X19 -> 32
B20: 2 - Management Standards / Standards de gestion
A21: 5 | B21: 2.1. | D21: CQ | E21: CR | F21: x | H21: Certificates of registration & valid authorisation to fish on board | I21: SP | J21: YES | K21: YES | L21: YES | M21: 12 | N21: Same as CQ | O21: Res. 19/04 (11.c & 17.a) | P21: =Q8 -> 20.02.2027 | Q21: The obligation for valid certificates of vessel registration and valid authorisation to fish and/or tranship to be on board national vessels | R21: SP, LEG | S21: BDG, COM, FRAOT, LBR, MOZ, PAK, PAN, PHL, SOM, SDN, UK, YEM | T21: AUS CHN EUR IND IDN IRN JPN KEN KOR MDG MYS MDV MUS MOZ OMN PAK PAN PHL SYC ZAF LKA TWNCHN TZA THA | U21: =I21 -> SP | V21: No fishing vessel registered on the RAV | W21: =M21 -> 12 | X21: =W9-W21 -> 20 | Y21: =W21+X21 -> 32
A22: 6 | B22: 2.2. | D22: CQ | E22: CR | F22: x | H22: Marking of vessels | I22: SP | J22: YES | K22: YES | L22: YES | M22: 12 | N22: Same as CQ | O22: Res. 19/04 (18) | P22: =Q8 -> 20.02.2027 | Q22: The obligation for national vessel marking | R22: SP, LEG | S22: BDG, COM, FRAOT, LBR, MOZ, PAK, PAN, PHL, SOM, SDN, UK, YEM | T22: AUS CHN EUR IND IDN IRN JPN KEN KOR MDG MYS MDV MUS MOZ OMN PAK PAN PHL SYC ZAF LKA TWNCHN TZA THA | U22: =I22 -> SP | V22: No fishing vessel registered on the RAV | W22: =M22 -> 12 | X22: =W9-W22 -> 20 | Y22: =W22+X22 -> 32
A23: 7 | B23: 2.3. | D23: CQ | E23: CR | F23: x | H23: Marking of gears | I23: SP | J23: YES | K23: YES | L23: YES | M23: 12 | N23: Same as CQ | O23: Res. 19/04 (19.a, b) | P23: =Q8 -> 20.02.2027 | Q23: The obligation to mark passive fishing gears | R23: SP, LEG | S23: BDG, COM, FRAOT, LBR, MOZ, PAK, PAN, PHL, SOM, SDN, UK, YEM | T23: AUS CHN EUR IND IDN IRN JPN KEN KOR MDG MYS MDV MUS MOZ OMN PAK PAN PHL SYC ZAF LKA TWNCHN TZA THA | U23: =I23 -> SP | V23: No fishing vessel registered on the RAV | W23: =M23 -> 12 | X23: =W9-W23 -> 20 | Y23: =W23+X23 -> 32
A24: 8 | B24: 2.4. | D24: CQ | E24: CR | F24: x | H24: Fishing logbook on board, bound, consecutive numbered pages, 12 months recording | I24: SP | J24: YES | K24: YES | L24: YES | M24: 12 | N24: Same as CQ | O24: Res. 19/04 (20) | P24: =Q8 -> 20.02.2027 | Q24: The obligation for fishing vessels to keep fishing national logbook on board, bound, with consecutively numbered pages and original kept on board at least 12 months | R24: SP, LEG | S24: BDG, COM, FRAOT, LBR, MOZ, PAK, PAN, PHL, SOM, SDN, UK, YEM | T24: AUS CHN EUR IND IDN IRN JPN KEN KOR MDG MYS MDV MUS MOZ OMN PAK PAN PHL SYC ZAF LKA TWNCHN TZA THA | U24: =I24 -> SP | V24: No fishing vessel registered on the RAV | W24: =M24 -> 12 | X24: =W9-W24 -> 20 | Y24: =W24+X24 -> 32
A25: 9 | B25: 2.5. | D25: CQ | E25: CR | F25: x | H25: Official authorisation to fish outside National Jurisdictions (ATF) | I25: N/A | J25: NO | K25: YES | L25: NO | M25: 12 | N25: Same as CQ | O25: Res. 19/04 (6) | P25: =Q8 -> 20.02.2027 | R25: N/A | S25: BDG, COM, FRAOT, LBR, MOZ, PAK, PAN, PHL, SOM, SDN, UK, YEM | T25: AUS CHN EUR IND IDN IRN JPN KEN KOR MDG MYS MDV MUS MOZ OMN PAK PAN PHL SYC ZAF LKA TWNCHN TZA THA | U25: =I25 -> N/A | V25: No fishing vessel registered on the RAV | W25: =M25 -> 12 | X25: =W9-W25 -> 20 | Y25: =W25+X25 -> 32
A26: 10 | B26: 2.6 | D26: CQ | E26: CR | F26: x | H26: Official national fishing logbooks / Livres de pêche nationale officiels | I26: NA | J26: NO | K26: YES | L26: NO | M26: 12 | N26: Same as CQ | O26: Res. 15/01 (4) | P26: =Q8 -> 20.02.2027 | R26: N/A | S26: BDG, COM, FRAOT, LBR, MOZ, PAK, PAN, PHL, SOM, SDN, UK, YEM | T26: AUS CHN EUR IND IDN IRN JPN KEN KOR MDG MYS MDV MUS MOZ OMN PAK PAN PHL SYC ZAF LKA TWNCHN TZA THA | U26: =I26 -> NA | V26: No fishing vessel registered on the RAV | W26: =M26 -> 12 | X26: =W9-W26 -> 20 | Y26: =W26+X26 -> 32
A27: 11 | B27: 2.7 | D27: CQ | E27: CR | F27: x | H27: CoastalCatchRecordingSystem | I27: SP | J27: YES | K27: YES | L27: YES | M27: 11 | N27: Same as CQ | O27: Res. 15/01 ( 11) | P27: =Q8 -> 20.02.2027 | Q27: Data recording system for vessels below 24m operating inside the EEZ | R27: SP, LEG | S27: AUS CHN EUR FRAOT JPN KOR LBR PAN PHL UK TWNCHN | T27: BDG COM IND IDN IRN KEN MDG MYS MDV MUS MOZ OMN PAK SYC ZAF SDN SOM LKA TZA THA YEM | U27: =I27 -> SP | V27: Not a developing State or not a coastal State located in the ITC Area of Competence | W27: =M27 -> 11 | X27: =W9-W27 -> 21 | Y27: =W27+X27 -> 32
A28: 12 | B28: 2.8. | C28: IR | E28: CR | F28: x | H28: Ban on large-scale driftnets in IOTC Area & MCS actions | I28: SP | J28: YES | K28: YES | L28: YES | M28: 1 | N28: Same as IR | O28: Res. 17/07 (2) (6) | P28: =Q8 -> 20.02.2027 | Q28: The obligation for fishing vessels to not use large scale driftnets in the IOTC area of Competence (High sea and ZEE) | R28: SP, LEG | S28: PAK | T28: AUS BDG CHN COM EUR FRAOT IND IDN IRN JPN KEN KOR LBR MDG MYS MDV MUS MOZ OMN PAK PAN PHL SYC SOM ZAF LKA SDN TWNCHN TZA THA UK YEM | U28: =I28 -> SP | V28: PAK objected to Resolution 17/07. Resolution 12/12 remains binding on PAK | W28: =M28 -> 1 | X28: =W9-W28 -> 31 | Y28: =W28+X28 -> 32
B29: 2.8 Obj1707 | C29: IR | H29: Ban on large-scale driftnets High Sea of IOTC Area & MCS actions | J29: YES | K29: YES | L29: YES | M29: 31 | N29: Same as IR | O29: Res. 12/12 (2) (5) | P29: =Q8 -> 20.02.2027 | Q29: The obligation for fishing vessels to not use large scale driftnets in the IOTC area of Competence (High sea and ZEE) | R29: SP, LEG | S29: AUS BDG CHN COM EUR FRAOT IND IDN IRN JPN KEN KOR LBR MDG MYS MDV MUS MOZ OMN PAK PAN PHL SYC SOM ZAF LKA SDN TWNCHN TZA THA UK YEM | T29: PAK | U29: =I29 -> 0 | W29: =M29 -> 31 | X29: =W9-W29 -> 1 | Y29: =W29+X29 -> 32
A30: 13 | B30: 2.9 | D30: CQ | E30: CR | F30: x | H30: Marking of DFADs 2 / Marquage des DCPD | I30: SP | J30: YES | K30: YES | L30: YES | M30: 21 | N30: Same as CQ | O30: Res. 24/02 (39) & 19/02 (21) | P30: =Q8 -> 20.02.2027 | Q30: The obligation for vessels to mark DFADs | R30: SP, LEG | S30: BDG COM CHN FRAOT IND LBR MDG MYS MDV MOZ PAK PAN PHL SOM ZAF LKA SDN THA UK YEM TWNCHN | T30: AUS EUR IDN IRN JPN KEN KOR MUS OMN SYC TZA | U30: =I30 -> SP | V30: NO purse seine vessel (PS) AND no supply vessels (SP) registered on the IOTC Record of authorised vessels and fishing on drifting Fish Aggregating Devices (dFADs), equipped with instrumented buoys for the purpose of aggregating target tuna species in the IOTC area of competence | W30: =M30 -> 21 | X30: =W9-W30 -> 11 | Y30: =W30+X30 -> 32
A31: 14 | B31: 2.10 . | D31: CQ | E31: CR | F31: x | H31: Marking of AFADs 2 / Marquage des DCPA | I31: SP | J31: YES | K31: YES | L31: YES | M31: 7 | N31: Same as CQ | O31: Res. 23/01 (7) | P31: =Q8 -> 20.02.2027 | Q31: The obligation for vessels only use AFADs that are permanently marked with a Unique National Identification (UNI) number | R31: SP, LEG | S31: CHN, JPN, KOR, LBR, PAN, PHL, TWNCHN | T31: AUS BDG COM EUR FRAOT IND IDN IRN KEN MDG MYS MDV MUS MOZ OMN PAK PAN SYC ZAF LKA SDN SOM TZA THA YEM | U31: =I31 -> SP | V31: Not a coastal State located in the ITC Area of Competence | W31: =M31 -> 7 | X31: =W9-W31 -> 25 | Y31: =W31+X31 -> 32
A32: 15 | B32: 2.11 | C32: IR | E32: CR | F32: x | H32: DFADs management plan | I32: SP | J32: YES | K32: YES | L32: YES | M32: 21 | N32: Same as IR | O32: Res. 24/02 (21) | P32: =Q7 -> 12.03.2027 | Q32: The obligation for vessels implementation of the DFADs management plan | R32: SP, LEG | S32: BDG COM CHN FRAOT IND LBR MDG MYS MDV MOZ PAK PAN PHL SOM ZAF LKA SDN THA UK YEM TWNCHN | T32: AUS EUR IDN IRN JPN KEN KOR MUS OMN SYC TZA | U32: =I32 -> SP | V32: No purse seine vessels / supply or support vessels fishing on Drifting Fish Aggregating Devices | W32: =M32 -> 21 | X32: =W9-W32 -> 11 | Y32: =W32+X32 -> 32
A33: 16 | B33: 2.12 | C33: IR | E33: CR | F33: x | H33: AFADs management plan | I33: N/A | J33: NO | K33: YES | L33: NO | M33: 7 | N33: Fixed date | O33: Res. 23/01 (4) | P33: 01.01.2026 | Q33: The obligation for vessels implementation of the AFADs management plan | R33: SP, LEG | S33: CHN, JPN, KOR, LBR, PAN, PHL, TWNCHN | T33: AUS BDG COM EUR FRAOT IND IDN IRN KEN MDG MYS MDV MUS MOZ OMN PAK PAN SYC ZAF LKA SDN SOM TZA THA YEM | U33: =I33 -> N/A | V33: Not a coastal State located in the ITC Area of Competence | W33: =M33 -> 7 | X33: =W9-W33 -> 25 | Y33: =W33+X33 -> 32
A34: 17 | B34: 2.13 | C34: IR | E34: CR | F34: x | H34: RegisterAFADs | I34: SP | J34: YES | K34: YES | L34: YES | M34: 7 | N34: Same as IR | O34: Res. 23/01 (8, 9, 12, 13, 14) | P34: =Q7 -> 12.03.2027 | Q34: The obligation related to the deployment of AFADs, site selection & construction of AFADs, by vessels | R34: SP, LEG | S34: CHN, JPN, KOR, LBR, PAN, PHL, TWNCHN | T34: AUS BDG COM EUR FRAOT IND IDN IRN KEN MDG MYS MDV MUS MOZ OMN PAK PAN SYC ZAF LKA SDN SOM TZA THA YEM | U34: =I34 -> SP | V34: Not a coastal State located in the ITC Area of Competence | W34: =M34 -> 7 | X34: =W9-W34 -> 25 | Y34: =W34+X34 -> 32
A35: 18 | B35: 2.14 | C35: IR | E35: CR | F35: x | H35: Report progress implementation AFADs management plan | I35: N/A | J35: NO | K35: YES | L35: NO | M35: 7 | N35: Same as IR | O35: Res 23/01 (6) (2024) | P35: =Q7 -> 12.03.2027 | Q35: Progress AFAD plan | R35: N/A | S35: CHN, JPN, KOR, LBR, PAN, PHL, TWNCHN | T35: AUS BDG COM EUR FRAOT IND IDN IRN KEN MDG MYS MDV MUS MOZ OMN PAK PAN SYC ZAF LKA SDN SOM TZA THA YEM | U35: =I35 -> N/A | V35: Not a coastal State located in the ITC Area of Competence | W35: =M35 -> 7 | X35: =W9-W35 -> 25 | Y35: =W35+X35 -> 32
A36: 19 | B36: 2.15 | D36: CQ | E36: CR | F36: x | H36: Prohibition of surface, submerged artificial lights to attract fish / Interdiction des lumières artificielles de surface, immergées dans le but d’agréger des poissons | I36: SP | J36: YES | K36: YES | L36: YES | M36: 0 | N36: Same as CQ | O36: Res. 16/07 (1&2) | P36: =Q8 -> 20.02.2027 | Q36: The prohibition i) from using/installing/operating surface/submerged artificial lights beyond territorial waters and ii) from intentionally conducting fishing activities around/near any vessel/DFAD equipped with artificial lights | R36: SP, LEG | S36: NONE | T36: NONE | U36: =I36 -> SP | V36: N/A | W36: =M36 -> 0 | X36: =W9-W36 -> 32 | Y36: =W36+X36 -> 32
A37: 20 | B37: 2.16 | D37: CQ | E37: CR | F37: x | H37: Prohibition of aircrafts & unmanned aerial vehicles | I37: SP | J37: YES | K37: YES | L37: YES | M37: 0 | N37: Same as CQ | O37: Res. 16/08 (1) | P37: =Q8 -> 20.02.2027 | Q37: The prohibition from using aircrafts and unmanned aerial vehicles as fishing aids | R37: SP, LEG | S37: NONE | T37: NONE | U37: =I37 -> SP | V37: N/A | W37: =M37 -> 0 | X37: =W9-W37 -> 32 | Y37: =W37+X37 -> 32
B38: 2.16X | C38: IR | G38: x | H38: OccurrenceFishingOpWithAidAircraft | J38: NO | K38: NO | L38: NO | M38: 0 | N38: Same as IR | O38: Res. 16/08 (1) | P38: =Q7 -> 12.03.2027 | R38: N/A | S38: NONE | T38: NONE | U38: =I38 -> 0 | V38: N/A | W38: =M38 -> 0 | X38: =W9-W38 -> 32 | Y38: =W38+X38 -> 32
A39: 21 | B39: 2.17 | C39: IR | E39: CR | F39: x | H39: Catch limits - Nominal catch & Report methods for achieving YFT catch reductions | I39: SP | J39: YES | K39: YES | L39: YES | M39: 7 | N39: Same as IR | O39: Res. 21/01 (5-15) | P39: =Q7 -> 12.03.2027 | Q39: The methods of YFT catch reductions adopted by the CPC | R39: SP, LEG | S39: LBR, PAN + OBJ: IRN, IND, MDG, OMN, SOM | T39: AUS BDG CHN COM EUR FRAOT IDN JPN KEN KOR MYS MDV MUS MOZ PAK PHL SYC ZAF LKA SDN TWNCHN TZA THA UK YEM | U39: =I39 -> SP | V39: No fishing vessel operating in the IOTC Area of Competence or Objection to Resolution 21/01 or 19/01 | W39: =M39 -> 7 | X39: =W9-W39 -> 25 | Y39: =W39+X39 -> 32
B40: 2.17 Obj1901 | H40: Res18/01 apply - Catch limits - Nominal catch & Report methods for achieving YFT catch reductions | J40: YES | K40: YES | L40: YES | N40: Same as IR | O40: Res. 18/01 (3-6)(7) | P40: =Q7 -> 12.03.2027 | Q40: The methods of YFT catch reductions adopted by the CPC | R40: SP, LEG | S40: AUS BDG CHN COM EUR FRAOT IDN IRN JPN KEN KOR LBR MDG MYS MDV MUS MOZ OMN PAK PAN PHL SYC SOM ZAF LKA SDN TWNCHN TZA THA UK YEM | T40: OBJ: IND | U40: =I40 -> 0 | V40: Reason for inclusion: Objection to Resolution 19/01 | W40: 31 | X40: =W9-W40 -> 1 | Y40: =W40+X40 -> 32
B41: 2.17 Obj2101) | H41: Res19/01 apply - Catch limits - Nominal catch & Report methods for achieving YFT catch reductions | I41: SP | J41: YES | K41: YES | L41: YES | N41: Same as IR | O41: Res. 19/01 (5-15)(12) | P41: =Q7 -> 12.03.2027 | Q41: The methods of YFT catch reductions adopted by the CPC | R41: SP, LEG | S41: AUS BDG CHN COM EUR FRAOT IDN IDN JPN KEN KOR LBR MYS MDV MUS MOZ PAK PAN PHL SYC ZAF LKA SDN TWNCHN TZA THA UK YEM | T41: OBJ: IRN, IND, MDG, OMN, SOM | U41: =I41 -> SP | V41: Reason for inclusion: Objection to Resolution 21/01 | W41: 28 | X41: =W9-W41 -> 4 | Y41: =W41+X41 -> 32
A42: 22 | B42: 2.18 | D42: CQ | E42: CR | F42: x | H42: Purse seiners served by supply vessel | I42: N/A | J42: NO | K42: YES | L42: NO | M42: 26 | N42: Same as CQ | O42: Res. 21/01 (20) | P42: =Q8 -> 20.02.2027 | R42: N/A | S42: NO PS/SP: AUS BDG CHN COM FRAOT IDN JPN LBR MYS MDV MOZ PAN PAK PHL ZAF LKA SDN THA UK YEM TWNCHN + OBJ: IRN IND MDG OMN SOM | T42: EUR KEN KOR MUS SYC TZA | U42: =I42 -> N/A | V42: Objection to Resolution 21/01 or No purse seiner (PS) and no supply vessel (SP) on the IOTC Record of authorised vessels or only purse seiner (PS) on the IOTC Record of authorised vessels | W42: =M42 -> 26 | X42: =W9-W42 -> 6 | Y42: =W42+X42 -> 32
...

Sheet Summary
A6: Name of the e-MARIS campaign | B6: CoC24 - 2027 assessment
A7: Start: | B7: 46023
A8: End: | B8: Commission meeting 2027
A9: Assessment conducted in year: | B9: 2027
A10: Reporting year on / Year assessed: | B10: 2026/2025
A11: Total number of requirements (Including IR and CQ): | B11: ='eMaris CoC24'!C8+'eMaris CoC24'!C9 -> 105
A12: Number of assessed requirements: | B12: ='eMaris CoC24'!C8 -> 92
A13: Number of not assessed requirements: | B13: ='eMaris CoC24'!C9 -> 13
A14: Number of requirements with reporting on System and procedures (SP): | B14: ='eMaris CoC24'!I7 -> 42
A15: Number of requirements where SP is not applicable: | B15: ='eMaris CoC24'!I8 -> 51
A16: Reporting effort by deadline type: (All 86 assessed requirements) | B16: IR | C16: CQ | D16: Fixed Date
B17: ='eMaris CoC24'!N8 -> 33 | C17: ='eMaris CoC24'!N9 -> 56 | D17: ='eMaris CoC24'!N10 -> 27
A18: Distribution of requirements in reports : | B18: IR | C18: CQ | D18: CR
B19: ='eMaris CoC24'!F8 -> 32 | C19: ='eMaris CoC24'!F9 -> 72 | D19: ='eMaris CoC24'!F10 -> 92
A20: CPC Excluded/Included - Automatic assessment Not Applicable (N/A): | B20: ='eMaris CoC24'!I10 -> 0 | C20: of | D20: =B12*31 -> 2852
A25: Category/Section | B25: Requirement Assessed | C25: Not Assessed
A26: 1 - Implementation obligations* | B26: 4 | C26: 0
A27: 2 - Management standards | B27: 26 | C27: 1
A28: 3 - Reporting on vessels | B28: 11 | C28: 0
A29: 4 - Vessel monitoring system | B29: 1 | C29: 0
A30: 5 - Mandatory statistical requirement – flag State CPCs | B30: 11 | C30: 2
A31: 6 - Implementation of mitigation measure and bycatch of non-IOTC species | B31: 16 | C31: 0
A32: 7 - Illegal, unreported and unregulated (IUU) vessels | B32: 2 | C32: 7
A33: 8 – Transhipments | B33: 7 | C33: 1
A34: 9 – Observers | B34: 4 | C34: 1
A35: 10 - Statistical document programme | B35: 4 | C35: 0
A36: 11 - Port inspection | B36: 6 | C36: 0
A37: 12 – Market measures | B37: None | C37: 1
A38: Total | B38: =SUM(B26:B36) -> 92 | C38: =SUM(C26:C37) -> 13
A39: *: Including IR and CQ under the tab “Reports” of e-MARIS.

Sheet Reminders Setting
A7: Description :
B8: Compliance assessment cycle concluding with the CoC24 in 2027 and the Commission (S31) meetings. Compliance assessment conducted in 2027 for the data and information submitted to the Secretariat for the years reporting on 2026 and also 2025.
B9: Cycle d'évaluation de la conformité se terminant par les réunions du CdA24 et de la Commission (S31) en 2027. Évaluation de la conformité effectuée en 2027 pour les données et informations soumises au Secrétariat pour les années de rapport sur 2026 et également 2025.
