Workbook
Name _ftn1: 'eMaris CoC24'!#REF!
Name _ftnref1: 'eMaris CoC24'!$H$21
Name _Hlk116635702: 'eMaris CoC24'!$H$54
Name _Hlk116727610: 'eMaris CoC24'!#REF!
Name _Hlk116736973: 'eMaris CoC24'!#REF!
Name _Hlk116737492: 'eMaris CoC24'!#REF!
Name _Hlk116739192: 'eMaris CoC24'!$N$65
Name _Hlk116739606: 'eMaris CoC24'!$N$66
Name _Hlk116740253: 'eMaris CoC24'!$N$69
Name _Hlk116741416: 'eMaris CoC24'!#REF!
Name _Hlk116742617: 'eMaris CoC24'!$N$87
Name _Hlk116743883: 'eMaris CoC24'!$N$89
Name _Hlk116744290: 'eMaris CoC24'!$N$91
Name _Hlk116746081: 'eMaris CoC24'!$N$92
Name _Hlk116747015: 'eMaris CoC24'!$N$93
Name _Hlk116747336: 'eMaris CoC24'!$N$94
Name _Hlk116752046: 'eMaris CoC24'!$N$95
Name _Hlk116806891: 'eMaris CoC24'!$N$107
Name _Hlk116811918: 'eMaris CoC24'!$N$119
Name _Hlk116812434: 'eMaris CoC24'!$N$121
Name _Hlk116813654: 'eMaris CoC24'!$N$124
Name _Hlk116813852: 'eMaris CoC24'!$N$125
Name _Hlk116815170: 'eMaris CoC24'!#REF!
Name _Hlk116816144: 'eMaris CoC24'!$N$136
Name _Hlk116818691: 'eMaris CoC24'!$N$137
Name _Hlk117152103: 'eMaris CoC24'!#REF!
Name _Hlk117154624: 'eMaris CoC24'!#REF!
Name _Hlk117170142: 'eMaris CoC24'!#REF!
Name _Hlk117242449: 'eMaris CoC24'!#REF!
Name _Hlk117435139: 'eMaris CoC24'!$H$135

Sheet eMaris CoC24
S1: Version | T1: Date
S2: 1 | T2: 45642 | V2: CPC Included | W2: =SUM(X16:X146) -> 2350
S3: 2 | T3: 45674 | V3: CPC Excluded - Automatic N/A | W3: =SUM(W16:W146) -> 1074
S4: 3 | T4: 45775
B7: REQ Count | E7: REQ in | H7: Number of SP | I7: =COUNTIF(I16:I165,"SP") -> 42 | M7: Reporting efforts by deadline type | O7: 2 | P7: DATE IR | Q7: 12.03.2027
B8: Assessed | C8: =COUNTIF(F15:F193,"x") -> 92 | E8: IR | F8: =COUNTIF(C15:C193,"IR") -> 32 | H8: Number of SP N/A | I8: =COUNTIF(I16:I165,"N/A") -> 51 | L8: Deadline | M8: IR | N8: =COUNTIF(N16:N142,"Same as IR") -> 33 | P8: DATE CQ | Q8: 20.02.2027
B9: Not assessed | C9: =COUNTIF(G15:G193,"x") -> 13 | E9: CQ | F9: =COUNTIF(D15:D193,"CQ") -> 72 | L9: Deadline | M9: CQ | N9: =COUNTIF(N16:N142,"Same as CQ") -> 56 | P9: Final date defined at Commission meeting | S9: E-MARIS functionnality to define the audience for each requirement | T9: E-MARIS functionnality to define the audience for each requirement | V9: e-MARIS user: | W9: 32
E10: CR | F10: =COUNTIF(E15:E193,"CR") -> 92 | L10: Deadline | M10: Fixed date | N10: =COUNTIF(N15:N173,"Fixed date") -> 27 | S10: To exclude CPC from a Requirement | T10: To include CPC in a Requirement
N11: =N8+N9+N10 -> 116
D12: e-MARIS buiding report
A13: Count N° REQ | B13: CR N° e-MARIS REQ number | C13: IR | D13: CQ | E13: CR | F13: Assessed | G13: Not Assessed | H13: E-MARIS Individual Requirement | I13: SP Yes - SP N/A - NO SP | J13: LEG Assess | K13: STD Assess | L13: SP Assess | M13: Count CPC Excluded Automatic N/A | N13: DeadLine IOTC texts, Resolutions (When defined) | O13: Source IOTC text Agreement RoP Resolution - paragraph(s) | P13: CoC23 Deadline e-MARIS Date | Q13: SP Description To monitor and ensure compliance persons/vessels with | R13: Recall functionnality Part A - SP Part B - DATA Part C - LEG | S13: Exclude means: 1. Not applicable for all listed CPCs - Reporting in e-MARIS not possible -> Auto-assessment N/A 2. Applicable for CPCs not listed - Reporting in e-MARIS CPC excluded will see the REQ in the dashboard BUT it will be marked in GREY | T13: Include means: 1. Applicable for all listed CPCs - Reporting in e-MARIS 2. Not Applicable for all other, not listed, CPCs (Excluded) - Reporting in e-MARIS not possible -> Auto-assessment N/A CPC not listed will see the REQ in the dashboard BUT it will be marked in GREY | U13: SP type Column ''I'' | V13: Reason for exclusion: | W13: Count CPC Excluded Automatic N/A | X13: Count CPC Included | Y13: VERIFICATION
B14: Total | C14: =COUNTIF(C17:C165,"IR") -> 32 | D14: =COUNTIF(D16:D165,"CQ") -> 72 | E14: =COUNTIF(E16:E165,"CR") -> 92 | F14: =COUNTIF(F16:F165,"X") -> 92 | G14: =COUNTIF(G16:G165,"x") -> 13
B15: 1 - Implementation obligations / Obligations de mise en œuvre
A16: 1 | B16: 1.1 | E16: CR | F16: x | H16: Report of Implementation (e-MARIS REPORT) | I16: N/A | J16: NO | K16: YES | L16: NO | N16: Same as IR | O16: Art. X Agreement Session 60d | P16: =Q7 -> 12.03.2027 | R16: N/A | S16: NONE | T16: ALL - AUS BDG CHN COM EUR FRAOT IND IDN IRN JPN KEN KOR LBR MDG MYS MDV MUS MOZ OMN PAK PAN PHL SYC SOM ZAF LKA SDN TWNCHN TZA THA UK YEM | U16: =I16 -> N/A | V16: N/A (IR is mandatory for all CPCs) | W16: =M16 -> 0 | X16: =W9-W16 -> 32 | Y16: =W16+X16 -> 32
A17: 2 | B17: 1.2 | E17: CR | F17: x | H17: Compliance Questionnaire (e-MARIS REPORT) | I17: N/A | J17: NO | K17: YES | L17: NO | N17: Same as CQ | O17: Rules Of Procedure V Session 80d | P17: =Q8 -> 20.02.2027 | R17: N/A | S17: NONE | T17: ALL - AUS BDG CHN COM EUR FRAOT IND IDN IRN JPN KEN KOR LBR MDG MYS MDV MUS MOZ OMN PAK PAN PHL SYC SOM ZAF LKA SDN TWNCHN TZA THA UK YEM | U17: =I17 -> N/A | V17: N/A (IR is mandatory for all CPCs) | W17: =M17 -> 0 | X17: =W9-W17 -> 32 | Y17: =W17+X17 -> 32
A18: 3 | B18: 1.3 | D18: CQ | E18: CR | F18: x | H18: National Scientific Report | I18: N/A | J18: NO | K18: YES | L18: NO | N18: Fixed date | O18: SC04 (111) | P18: 16.11.2026 | R18: N/A | S18: NONE | T18: ALL - AUS BDG CHN COM EUR FRAOT IND IDN IRN JPN KEN KOR LBR MDG MYS MDV MUS MOZ OMN PAK PAN PHL SYC SOM ZAF LKA SDN TWNCHN TZA THA UK YEM | U18: =I18 -> N/A | V18: N/A | W18: =M18 -> 0 | X18: =W9-W18 -> 32 | Y18: =W18+X18 -> 32
A19: 4 | B19: 1.4 | D19: CQ | E19: CR | F19: x | H19: Compliance Action Plan | I19: N/A | J19: NO | K19: YES | L19: NO | N19: Fixed date | O19: RoP Appendix V Annex A | P19: 18.07.2026 | R19: N/A | S19: To be defined after Commission meeting CPCs without NC2 identified | T19: To be defined after Commission meeting CPCs with NC2 identified | U19: =I19 -> N/A | V19: NO non-compliance of category 2 identified at previous Compliance Committee. | W19: =M19 -> 0 | X19: =W9-W19 -> 32 | Y19: =W19+X19 -> 32
B20: 2 - Management Standards / Standards de gestion
A21: 5 | B21: 2.1. | D21: CQ | E21: CR | F21: x | H21: Certificates of registration & valid authorisation to fish on board | I21: SP | J21: YES | K21: YES | L21: YES | M21: 12 | N21: Same as CQ | O21: Res. 19/04 (11.c & 17.a) | P21: =Q8 -> 20.02.2027 | Q21: The obligation for valid certificates of vessel registration and valid authorisation to fish and/or tranship to be on board national vessels | R21: SP, LEG | S21: BDG, COM, FRAOT, LBR, MOZ, PAK, PAN, PHL, SOM, SDN, UK, YEM | T21: AUS CHN EUR IND IDN IRN JPN KEN KOR MDG MYS MDV MUS MOZ OMN PAK PAN PHL SYC ZAF LKA TWNCHN TZA THA | U21: =I21 -> SP | V21: No fishing vessel registered on the RAV | W21: =M21 -> 12 | X21: =W9-W21 -> 20 | Y21: =W21+X21 -> 32
A22: 6 | B22: 2.2. | D22: CQ | E22: CR | F22: x | H22: Marking of vessels | I22: SP | J22: YES | K22: YES | L22: YES | M22: 12 | N22: Same as CQ | O22: Res. 19/04 (18) | P22: =Q8 -> 20.02.2027 | Q22: The obligation for national vessel marking | R22: SP, LEG | S22: BDG, COM, FRAOT, LBR, MOZ, PAK, PAN, PHL, SOM, SDN, UK, YEM | T22: AUS CHN EUR IND IDN IRN JPN KEN KOR MDG MYS MDV MUS MOZ OMN PAK PAN PHL SYC ZAF LKA TWNCHN TZA THA | U22: =I22 -> SP | V22: No fishing vessel registered on the RAV | W22: =M22 -> 12 | X22: =W9-W22 -> 20 | Y22: =W22+X22 -> 32
A23: 7 | B23: 2.3. | D23: CQ | E23: CR | F23: x | H23: Marking of gears | I23: SP | J23: YES | K23: YES | L23: YES | M23: 12 | N23: Same as CQ | O23: Res. 19/04 (19.a, b) | P23: =Q8 -> 20.02.2027 | Q23: The obligation to mark passive fishing gears | R23: SP, LEG | S23: BDG, COM, FRAOT, LBR, MOZ, PAK, PAN, PHL, SOM, SDN, UK, YEM | T23: AUS CHN EUR IND IDN IRN JPN KEN KOR MDG MYS MDV MUS MOZ OMN PAK PAN PHL SYC ZAF LKA TWNCHN TZA THA | U23: =I23 -> SP | V23: No fishing vessel registered on the RAV | W23: =M23 -> 12 | X23: =W9-W23 -> 20 | Y23: =W23+X23 -> 32
A24: 8 | B24: 2.4. | D24: CQ | E24: CR | F24: x | H24: Fishing logbook on board, bound, consecutive numbered pages, 12 months recording | I24: SP | J24: YES | K24: YES | L24: YES | M24: 12 | N24: Same as CQ | O24: Res. 19/04 (20) | P24: =Q8 -> 20.02.2027 | Q24: The obligation for fishing vessels to keep fishing national logbook on board, bound, with consecutively numbered pages and original kept on board at least 12 months | R24: SP, LEG | S24: BDG, COM, FRAOT, LBR, MOZ, PAK, PAN, PHL, SOM, SDN, UK, YEM | T24: AUS CHN EUR IND IDN IRN JPN KEN KOR MDG MYS MDV MUS MOZ OMN PAK PAN PHL SYC ZAF LKA TWNCHN TZA THA | U24: =I24 -> SP | V24: No fishing vessel registered on the RAV | W24: =M24 -> 12 | X24: =W9-W24 -> 20 | Y24: =W24+X24 -> 32
A25: 9 | B25: 2.5. | D25: CQ | E25: CR | F25: x | H25: Official authorisation to fish outside National Jurisdictions (ATF) | I25: N/A | J25: NO | K25: YES | L25: NO | M25: 12 | N25: Same as CQ | O25: Res. 19/04 (6) | P25: =Q8 -> 20.02.2027 | R25: N/A | S25: BDG, COM, FRAOT, LBR, MOZ, PAK, PAN, PHL, SOM, SDN, UK, YEM | T25: AUS CHN EUR IND IDN IRN JPN KEN KOR MDG MYS MDV MUS MOZ OMN PAK PAN PHL SYC ZAF LKA TWNCHN TZA THA | U25: =I25 -> N/A | V25: No fishing vessel registered on the RAV | W25: =M25 -> 12 | X25: =W9-W25 -> 20 | Y25: =W25+X25 -> 32
A26: 10 | B26: 2.6 | D26: CQ | E26: CR | F26: x | H26: Official national fishing logbooks / Livres de pêche nationale officiels | I26: NA | J26: NO | K26: YES | L26: NO | M26: 12 | N26: Same as CQ | O26: Res. 15/01 (4) | P26: =Q8 -> 20.02.2027 | R26: N/A | S26: BDG, COM, FRAOT, LBR, MOZ, PAK, PAN, PHL, SOM, SDN, UK, YEM | T26: AUS CHN EUR IND IDN IRN JPN KEN KOR MDG MYS MDV MUS MOZ OMN PAK PAN PHL SYC ZAF LKA TWNCHN TZA THA | U26: =I26 -> NA | V26: No fishing vessel registered on the RAV | W26: =M26 -> 12 | X26: =W9-W26 -> 20 | Y26: =W26+X26 -> 32
A27: 11 | B27: 2.7 | D27: CQ | E27: CR | F27: x | H27: CoastalCatchRecordingSystem | I27: SP | J27: YES | K27: YES | L27: YES | M27: 11 | N27: Same as CQ | O27: Res. 15/01 ( 11) | P27: =Q8 -> 20.02.2027 | Q27: Data recording system for vessels below 24m operating inside the EEZ | R27: SP, LEG | S27: AUS CHN EUR FRAOT JPN KOR LBR PAN PHL UK TWNCHN | T27: BDG COM IND IDN IRN KEN MDG MYS MDV MUS MOZ OMN PAK SYC ZAF SDN SOM LKA TZA THA YEM | U27: =I27 -> SP | V27: Not a developing State or not a coastal State located in the ITC Area of Competence | W27: =M27 -> 11 | X27: =W9-W27 -> 21 | Y27: =W27+X27 -> 32
A28: 12 | B28: 2.8. | C28: IR | E28: CR | F28: x | H28: Ban on large-scale driftnets in IOTC Area & MCS actions | I28: SP | J28: YES | K28: YES | L28: YES | M28: 1 | N28: Same as IR | O28: Res. 17/07 (2) (6) | P28: =Q8 -> 20.02.2027 | Q28: The obligation for fishing vessels to not use large scale driftnets in the IOTC area of Competence (High sea and ZEE) | R28: SP, LEG | S28: PAK | T28: AUS BDG CHN COM EUR FRAOT IND IDN IRN JPN KEN KOR LBR MDG MYS MDV MUS MOZ OMN PAK PAN PHL SYC SOM ZAF LKA SDN TWNCHN TZA THA UK YEM | U28: =I28 -> SP | V28: PAK objected to Resolution 17/07. Resolution 12/12 remains binding on PAK | W28: =M28 -> 1 | X28: =W9-W28 -> 31 | Y28: =W28+X28 -> 32
B29: 2.8 Obj1707 | C29: IR | H29: Ban on large-scale driftnets High Sea of IOTC Area & MCS actions | J29: YES | K29: YES | L29: YES | M29: 31 | N29: Same as IR | O29: Res. 12/12 (2) (5) | P29: =Q8 -> 20.02.2027 | Q29: The obligation for fishing vessels to not use large scale driftnets in the IOTC area of Competence (High sea and ZEE) | R29: SP, LEG | S29: AUS BDG CHN COM EUR FRAOT IND IDN IRN JPN KEN KOR LBR MDG MYS MDV MUS MOZ OMN PAK PAN PHL SYC SOM ZAF LKA SDN TWNCHN TZA THA UK YEM | T29: PAK | U29: =I29 -> 0 | W29: =M29 -> 31 | X29: =W9-W29 -> 1 | Y29: =W29+X29 -> 32
A30: 13 | B30: 2.9 | D30: CQ | E30: CR | F30: x | H30: Marking of DFADs 2 / Marquage des DCPD | I30: SP | J30: YES | K30: YES | L30: YES | M30: 21 | N30: Same as CQ | O30: Res. 24/02 (39) & 19/02 (21) | P30: =Q8 -> 20.02.2027 | Q30: The obligation for vessels to mark DFADs | R30: SP, LEG | S30: BDG COM CHN FRAOT IND LBR MDG MYS MDV MOZ PAK PAN PHL SOM ZAF LKA SDN THA UK YEM TWNCHN | T30: AUS EUR IDN IRN JPN KEN KOR MUS OMN SYC TZA | U30: =I30 -> SP | V30: NO purse seine vessel (PS) AND no supply vessels (SP) registered on the IOTC Record of authorised vessels and fishing on drifting Fish Aggregating Devices (dFADs), equipped with instrumented buoys for the purpose of aggregating target tuna species in the IOTC area of competence | W30: =M30 -> 21 | X30: =W9-W30 -> 11 | Y30: =W30+X30 -> 32
A31: 14 | B31: 2.10 . | D31: CQ | E31: CR | F31: x | H31: Marking of AFADs 2 / Marquage des DCPA | I31: SP | J31: YES | K31: YES | L31: YES | M31: 7 | N31: Same as CQ | O31: Res. 23/01 (7) | P31: =Q8 -> 20.02.2027 | Q31: The obligation for vessels only use AFADs that are permanently marked with a Unique National Identification (UNI) number | R31: SP, LEG | S31: CHN, JPN, KOR, LBR, PAN, PHL, TWNCHN | T31: AUS BDG COM EUR FRAOT IND IDN IRN KEN MDG MYS MDV MUS MOZ OMN PAK PAN SYC ZAF LKA SDN SOM TZA THA YEM | U31: =I31 -> SP | V31: Not a coastal State located in the ITC Area of Competence | W31: =M31 -> 7 | X31: =W9-W31 -> 25 | Y31: =W31+X31 -> 32
A32: 15 | B32: 2.11 | C32: IR | E32: CR | F32: x | H32: DFADs management plan | I32: SP | J32: YES | K32: YES | L32: YES | M32: 21 | N32: Same as IR | O32: Res. 24/02 (21) | P32: =Q7 -> 12.03.2027 | Q32: The obligation for vessels implementation of the DFADs management plan | R32: SP, LEG | S32: BDG COM CHN FRAOT IND LBR MDG MYS MDV MOZ PAK PAN PHL SOM ZAF LKA SDN THA UK YEM TWNCHN | T32: AUS EUR IDN IRN JPN KEN KOR MUS OMN SYC TZA | U32: =I32 -> SP | V32: No purse seine vessels / supply or support vessels fishing on Drifting Fish Aggregating Devices | W32: =M32 -> 21 | X32: =W9-W32 -> 11 | Y32: =W32+X32 -> 32
A33: 16 | B33: 2.12 | C33: IR | E33: CR | F33: x | H33: AFADs management plan | I33: N/A | J33: NO | K33: YES | L33: NO | M33: 7 | N33: Fixed date | O33: Res. 23/01 (4) | P33: 01.01.2026 | Q33: The obligation for vessels implementation of the AFADs management plan | R33: SP, LEG | S33: CHN, JPN, KOR, LBR, PAN, PHL, TWNCHN | T33: AUS BDG COM EUR FRAOT IND IDN IRN KEN MDG MYS MDV MUS MOZ OMN PAK PAN SYC ZAF LKA SDN SOM TZA THA YEM | U33: =I33 -> N/A | V33: Not a coastal State located in the ITC Area of Competence | W33: =M33 -> 7 | X33: =W9-W33 -> 25 | Y33: =W33+X33 -> 32
A34: 17 | B34: 2.13 | C34: IR | E34: CR | F34: x | H34: RegisterAFADs | I34: SP | J34: YES | K34: YES | L34: YES | M34: 7 | N34: Same as IR | O34: Res. 23/01 (8, 9, 12, 13, 14) | P34: =Q7 -> 12.03.2027 | Q34: The obligation related to the deployment of AFADs, site selection & construction of AFADs, by vessels | R34: SP, LEG | S34: CHN, JPN, KOR, LBR, PAN, PHL, TWNCHN | T34: AUS BDG COM EUR FRAOT IND IDN IRN KEN MDG MYS MDV MUS MOZ OMN PAK PAN SYC ZAF LKA SDN SOM TZA THA YEM | U34: =I34 -> SP | V34: Not a coastal State located in the ITC Area of Competence | W34: =M34 -> 7 | X34: =W9-W34 -> 25 | Y34: =W34+X34 -> 32
A35: 18 | B35: 2.14 | C35: IR | E35: CR | F35: x | H35: Report progress implementation AFADs management plan | I35: N/A | J35: NO | K35: YES | L35: NO | M35: 7 | N35: Same as IR | O35: Res 23/01 (6) (2024) | P35: =Q7 -> 12.03.2027 | Q35: Progress AFAD plan | R35: N/A | S35: CHN, JPN, KOR, LBR, PAN, PHL, TWNCHN | T35: AUS BDG COM EUR FRAOT IND IDN IRN KEN MDG MYS MDV MUS MOZ OMN PAK PAN SYC ZAF LKA SDN SOM TZA THA YEM | U35: =I35 -> N/A | V35: Not a coastal State located in the ITC Area of Competence | W35: =M35 -> 7 | X35: =W9-W35 -> 25 | Y35: =W35+X35 -> 32
A36: 19 | B36: 2.15 | D36: CQ | E36: CR | F36: x | H36: Prohibition of surface, submerged artificial lights to attract fish / Interdiction des lumières artificielles de surface, immergées dans le but d’agréger des poissons | I36: SP | J36: YES | K36: YES | L36: YES | M36: 0 | N36: Same as CQ | O36: Res. 16/07 (1&2) | P36: =Q8 -> 20.02.2027 | Q36: The prohibition i) from using/installing/operating surface/submerged artificial lights beyond territorial waters and ii) from intentionally conducting fishing activities around/near any vessel/DFAD equipped with artificial lights | R36: SP, LEG | S36: NONE | T36: NONE | U36: =I36 -> SP | V36: N/A | W36: =M36 -> 0 | X36: =W9-W36 -> 32 | Y36: =W36+X36 -> 32
A37: 20 | B37: 2.16 | D37: CQ | E37: CR | F37: x | H37: Prohibition of aircrafts & unmanned aerial vehicles | I37: SP | J37: YES | K37: YES | L37: YES | M37: 0 | N37: Same as CQ | O37: Res. 16/08 (1) | P37: =Q8 -> 20.02.2027 | Q37: The prohibition from using aircrafts and unmanned aerial vehicles as fishing aids | R37: SP, LEG | S37: NONE | T37: NONE | U37: =I37 -> SP | V37: N/A | W37: =M37 -> 0 | X37: =W9-W37 -> 32 | Y37: =W37+X37 -> 32
B38: 2.16X | C38: IR | G38: x | H38: OccurrenceFishingOpWithAidAircraft | J38: NO | K38: NO | L38: NO | M38: 0 | N38: Same as IR | O38: Res. 16/08 (1) | P38: =Q7 -> 12.03.2027 | R38: N/A | S38: NONE | T38: NONE | U38: =I38 -> 0 | V38: N/A | W38: =M38 -> 0 | X38: =W9-W38 -> 32 | Y38: =W38+X38 -> 32
A39: 21 | B39: 2.17 | C39: IR | E39: CR | F39: x | H39: Catch limits - Nominal catch & Report methods for achieving YFT catch reductions | I39: SP | J39: YES | K39: YES | L39: YES | M39: 7 | N39: Same as IR | O39: Res. 21/01 (5-15) | P39: =Q7 -> 12.03.2027 | Q39: The methods of YFT catch reductions adopted by the CPC | R39: SP, LEG | S39: LBR, PAN + OBJ: IRN, IND, MDG, OMN, SOM | T39: AUS BDG CHN COM EUR FRAOT IDN JPN KEN KOR MYS MDV MUS MOZ PAK PHL SYC ZAF LKA SDN TWNCHN TZA THA UK YEM | U39: =I39 -> SP | V39: No fishing vessel operating in the IOTC Area of Competence or Objection to Resolution 21/01 or 19/01 | W39: =M39 -> 7 | X39: =W9-W39 -> 25 | Y39: =W39+X39 -> 32
B40: 2.17 Obj1901 | H40: Res18/01 apply - Catch limits - Nominal catch & Report methods for achieving YFT catch reductions | J40: YES | K40: YES | L40: YES | N40: Same as IR | O40: Res. 18/01 (3-6)(7) | P40: =Q7 -> 12.03.2027 | Q40: The methods of YFT catch reductions adopted by the CPC | R40: SP, LEG | S40: AUS BDG CHN COM EUR FRAOT IDN IRN JPN KEN KOR LBR MDG MYS MDV MUS MOZ OMN PAK PAN PHL SYC SOM ZAF LKA SDN TWNCHN TZA THA UK YEM | T40: OBJ: IND | U40: =I40 -> 0 | V40: Reason for inclusion: Objection to Resolution 19/01 | W40: 31 | X40: =W9-W40 -> 1 | Y40: =W40+X40 -> 32
B41: 2.17 Obj2101) | H41: Res19/01 apply - Catch limits - Nominal catch & Report methods for achieving YFT catch reductions | I41: SP | J41: YES | K41: YES | L41: YES | N41: Same as IR | O41: Res. 19/01 (5-15)(12) | P41: =Q7 -> 12.03.2027 | Q41: The methods of YFT catch reductions adopted by the CPC | R41: SP, LEG | S41: AUS BDG CHN COM EUR FRAOT IDN IDN JPN KEN KOR LBR MYS MDV MUS MOZ PAK PAN PHL SYC ZAF LKA SDN TWNCHN TZA THA UK YEM | T41: OBJ: IRN, IND, MDG, OMN, SOM | U41: =I41 -> SP | V41: Reason for inclusion: Objection to Resolution 21/01 | W41: 28 | X41: =W9-W41 -> 4 | Y41: =W41+X41 -> 32
A42: 22 | B42: 2.18 | D42: CQ | E42: CR | F42: x | H42: Purse seiners served by supply vessel | I42: N/A | J42: NO | K42: YES | L42: NO | M42: 26 | N42: Same as CQ | O42: Res. 21/01 (20) | P42: =Q8 -> 20.02.2027 | R42: N/A | S42: NO PS/SP: AUS BDG CHN COM FRAOT IDN JPN LBR MYS MDV MOZ PAN PAK PHL ZAF LKA SDN THA UK YEM TWNCHN + OBJ: IRN IND MDG OMN SOM | T42: EUR KEN KOR MUS SYC TZA | U42: =I42 -> N/A | V42: Objection to Resolution 21/01 or No purse seiner (PS) and no supply vessel (SP) on the IOTC Record of authorised vessels or only purse seiner (PS) on the IOTC Record of authorised vessels | W42: =M42 -> 26 | X42: =W9-W42 -> 6 | Y42: =W42+X42 -> 32
B43: 2.18 Obj2101 | H43: Res19/01 apply - Purse seiners served by supply vessel | J43: NO | K43: YES | L43: NO | N43: Same as CQ | O43: Res. 19/01 (16) | P43: =Q8 -> 20.02.2027 | R43: N/A | S43: AUS BDG CHN COM EUR FRAOT IDN IDN JPN KEN KOR LBR MYS MDV MUS MOZ PAK PAN PHL SYC ZAF LKA SDN TWNCHN TZA THA UK YEM | T43: OBJ: IRN, MDG, OMN, SOM | U43: =I43 -> 0 | V43: Reason for inclusion: Objection to Resolution 21/01 | W43: 28 | X43: =W9-W43 -> 4 | Y43: =W43+X43 -> 32
A44: 23 | B44: 2.19 | C44: IR | E44: CR | F44: x | H44: Status/Plan reducing the use of supply vessel / Statut/Plan réduction de l’utilisation des navires d’appui. | I44: SP | J44: YES | K44: YES | L44: YES | M44: 26 | N44: Same as IR | O44: Res. 21/01 (18) | P44: =Q7 -> 12.03.2027 | Q44: The reduction of supply vessels in purse seine operations (Plan) | R44: SP, LEG | S44: NO PS/SP: AUS BDG CHN COM FRAOT IDN JPN LBR MYS MDV MOZ PAK PHL ZAF LKA SDN THA UK YEM TWNCHN + OBJ: IND IRN MDG OMN SOM | T44: EUR KEN KOR MUS SYC TZA | U44: =I44 -> SP | V44: Objection to Resolution 21/01 or No purse seiner (PS) and no supply vessel (SP) on the IOTC Record of authorised vessels or only purse seiner (PS) on the IOTC Record of authorised vessels | W44: =M44 -> 26 | X44: =W9-W44 -> 6 | Y44: =W44+X44 -> 32
B45: 2.19 Obj2101 | H45: Res19/01 apply - Status/Plan reducing the use of supply vessel | J45: YES | K45: YES | L45: YES | N45: Same as IR | O45: Res. 19/01 (16) | P45: =Q7 -> 12.03.2027 | Q45: The reduction of supply vessels in purse seine operations (Plan) | R45: SP, LEG | S45: AUS BDG CHN COM EUR FRAOT IDN IDN JPN KEN KOR LBR MYS MDV MUS MOZ PAK PAN PHL SYC ZAF LKA SDN TWNCHN TZA THA UK YEM | T45: OBJ: IRN, MDG, OMN, SOM | U45: =I45 -> 0 | V45: Reason for inclusion: Objection to Resolution 21/01 | W45: 28 | X45: =W9-W45 -> 4 | Y45: =W45+X45 -> 32
B46: 2.19 Obj1901 | H46: Res18/01 apply - Status/Plan reducing the use of supply vessel | J46: YES | K46: YES | L46: YES | N46: Same as IR | O46: Res. 18/01 (3c) | P46: =Q7 -> 12.03.2027 | Q46: The reduction of supply vessels in purse seine operations (Plan) | R46: SP, LEG | S46: AUS BDG CHN COM EUR FRAOT IDN IRN JPN KEN KOR LBR MDG MYS MDV MUS MOZ OMN PAK PAN PHL SYC SOM ZAF LKA SDN TWNCHN TZA THA UK YEM | T46: OBJ: IND | U46: =I46 -> 0 | V46: Reason for inclusion: Objection to Resolution 19/01 | W46: 31 | X46: =W9-W46 -> 1 | Y46: =W46+X46 -> 32
A47: 24 | B47: 2.20. | C47: IR | E47: CR | F47: x | H47: For Gillnet, Report the level of implementation of paragraphs 21-23 | I47: SP | J47: YES | K47: YES | L47: YES | M47: 29 | N47: Same as IR | O47: Res. 21/01 (21/23) | P47: =Q7 -> 12.03.2027 | Q47: i) phasing out/convert gillneters to other gears, ii) set gillnets at 2m depth, iii) increase observer coverage/ field sampling in gillneters by 10% | R47: SP, LEG | S47: NO GN RAV: AUS BDG, CHN, COM EUR FRAOT IND JPN KOR KEN LBR MYS MDV MUS MOZ PAK PAN PHL SYC ZAF SDN THA TZA UK YEM TWNCHN + OBJ: IRN, MDG, OMN, SOM | T47: IDN LKA | U47: =I47 -> SP | V47: Objection to Resolution 21/01 NO gillnet fishing vessels on the IOTC Record of authorized Vessels | W47: 30 | X47: =W9-W47 -> 2 | Y47: =W47+X47 -> 32
B48: 2.20 Obj2101 | H48: Res19/01 apply - Gillnet, report level implementation paragraphs 20-23 | J48: YES | K48: YES | L48: YES | N48: Same as IR | O48: Res. 19/01 (20/23) | P48: =Q7 -> 12.03.2027 | Q48: i) phasing out/convert gillneters to other gears, ii) set gillnets at 2m depth, iii) increase observer coverage/ field sampling in gillneters by 10% | R48: SP, LEG | S48: AUS BDG CHN COM EUR FRAOT IDN IDN JPN KEN KOR LBR MYS MDV MUS MOZ PAK PAN PHL SYC ZAF LKA SDN TWNCHN TZA THA UK YEM | T48: OBJ: IRN, MDG, OMN, SOM | U48: =I48 -> 0 | V48: Reason for inclusion: Objection to Resolution 21/01 | W48: 28 | X48: =W9-W48 -> 4 | Y48: =W48+X48 -> 32
A49: 25 | B49: 2.21. | C49: IR | E49: CR | F49: x | H49: Report actions taken to implement reporting obligations & improve data collection of catches | I49: N/A | J49: NO | K49: YES | L49: NO | M49: 2 | N49: Same as IR | O49: Res. 18/07 (1) | P49: =Q7 -> 12.03.2027 | R49: N/A | S49: LBR PAN | T49: AUS BDG CHN COM EUR FRAOT IND IDN IRN JPN KEN KOR MDG MYS MDV MUS MOZ OMN PAK PHL SYC SOM ZAF LKA SDN TWNCHN TZA THA UK YEM | U49: =I49 -> N/A | V49: Only engaged in transhipment activities involving carrier vessels registered on the IOTC Record of Authorised Vessels | W49: =M49 -> 2 | X49: =W9-W49 -> 30 | Y49: =W49+X49 -> 32
A50: 26 | B50: 2.22. | C50: IR | E50: CR | F50: x | H50: Reports of observations of damaged data buoys | I50: N/A | J50: NO | K50: YES | L50: NO | M50: 2 | N50: Same as IR | O50: Res 11/02 (6) | P50: =Q7 -> 12.03.2027 | R50: N/A | S50: LBR PAN | T50: AUS BDG CHN COM EUR FRAOT IND IDN IRN JPN KEN KOR MDG MYS MDV MUS MOZ OMN PAK PHL SYC SOM ZAF LKA SDN TWNCHN TZA THA UK YEM | U50: =I50 -> N/A | V50: Only engaged in transhipment activities involving carrier vessels registered on the IOTC Record of Authorised Vessels | W50: =M50 -> 2 | X50: =W9-W50 -> 30 | Y50: =W50+X50 -> 32
A51: 27 | B51: 2.23 | D51: CQ | E51: CR | F51: x | H51: Prohibition from intentionally fishing within 1 nautical mile of or interacting with data buoy | I51: SP | J51: YES | K51: YES | L51: YES | M51: 2 | N51: Same as CQ | O51: Res 11/02 (2) | P51: =Q8 -> 20.02.2027 | Q51: The prohibition of fishing vessels from intentionally fishing/interacting with data buoy | R51: SP, LEG | S51: LBR PAN | T51: AUS BDG CHN COM EUR FRAOT IND IDN IRN JPN KEN KOR MDG MYS MDV MUS MOZ OMN PAK PHL SYC SOM ZAF LKA SDN TWNCHN TZA THA UK YEM | U51: =I51 -> SP | V51: Only engaged in transhipment activities involving carrier vessels registered on the IOTC Record of Authorised Vessels | W51: =M51 -> 2 | X51: =W9-W51 -> 30 | Y51: =W51+X51 -> 32
A52: 28 | B52: 2.24 | D52: CQ | E52: CR | F52: x | H52: Prohibition from taking on board a data buoy | I52: SP | J52: YES | K52: YES | L52: YES | M52: 2 | N52: Same as CQ | O52: Res 11/02 (3) | P52: =Q8 -> 20.02.2027 | Q52: The prohibition of fishing vessels to take onboard data buoy | R52: SP, LEG | S52: LBR PAN | T52: AUS BDG CHN COM EUR FRAOT IND IDN IRN JPN KEN KOR MDG MYS MDV MUS MOZ OMN PAK PHL SYC SOM ZAF LKA SDN TWNCHN TZA THA UK YEM | U52: =I52 -> SP | V52: Only engaged in transhipment activities involving carrier vessels registered on the IOTC Record of Authorised Vessels | W52: =M52 -> 2 | X52: =W9-W52 -> 30 | Y52: =W52+X52 -> 32
A53: 29 | B53: 2.25 | C53: IR | E53: CR | F53: x | H53: Para11 Report on review of flag State control internal actions & measures, punitive actions and sanctions on flag vessels on the RAV | I53: SP | J53: YES | K53: YES | L53: YES | N53: Same as IR | O53: Res. 19/04 (11) | P53: =Q7 -> 12.03.2027 | Q53: i) to review flag State internal actions,…. ii) to monitor and to ensure compliance by vessels & persons with those obligations of Paragraphs 11 (Resolution 19/04) | R53: SP, DATA, LEG | S53: NONE | T53: ALL - AUS BDG CHN COM EUR FRAOT IND IDN IRN JPN KEN KOR LBR MDG MYS MDV MUS MOZ OMN PAK PAN PHL SYC SOM ZAF LKA SDN TWNCHN TZA THA UK YEM | U53: =I53 -> SP | V53: N/A | W53: 0 | X53: 32 | Y53: =W53+X53 -> 32
A54: 30 | B54: 2.26 | D54: CQ | E54: CR | F54: x | H54: BET catch limit | I54: SP | J54: YES | K54: YES | L54: YES | N54: Same as CQ | O54: Res. 23/04 (4) | P54: =Q8 -> 20.02.2027 | Q54: The Catch Limits for Bigeye Tuna in the Area of IOTC Competence | R54: SP, LEG | S54: NONE | T54: ALL - AUS BDG CHN COM EUR FRAOT IND IDN IRN JPN KEN KOR LBR MDG MYS MDV MUS MOZ OMN PAK PAN PHL SYC SOM ZAF LKA SDN TWNCHN TZA THA UK YEM | U54: =I54 -> SP | V54: N/A | W54: 0 | X54: 32 | Y54: =W54+X54 -> 32
A55: 31 | B55: 2.27 | D55: CQ | E55: CR | F55: x | H55: SKJ catch limit | I55: SP | J55: YES | K55: YES | L55: YES | M55: 4 | N55: Same as CQ | O55: Res. 25/03 (5) | P55: =Q8 -> 20.02.2027 | Q55: Catch Limits of Skijack tuna in the Area of IOTC Competence | R55: NONE - NEW RESOLUTION | S55: OBJ KOR // FRAOT LBR PAN | T55: AUS BDG CHN COM EUR FRAOT IND IDN IRN JPN KEN MDG MYS MDV MUS MOZ OMN PAK PHL SYC SOM ZAF LKA SDN TWNCHN TZA THA UK YEM | U55: =I55 -> SP | V55: Objection to Resolution 25/03 or No vessel operating in the IOTC Area of Competence | W55: 4 | X55: 28 | Y55: =W55+X55 -> 32
B56: 3 - Reporting on Vessels / Déclarations concernant les navires
A57: 32 | B57: 3.1. | D57: CQ | E57: CR | F57: x | H57: List of Active vessels / Liste des navires en activité | I57: N/A | J57: NO | K57: YES | L57: NO | M57: 2 | N57: Fixed date | O57: Res. 10/08 (1) | P57: 15.02.2026 | R57: N/A | S57: LBR PAN | T57: ALL - AUS BDG CHN COM EUR FRAOT IND IDN IRN JPN KEN KOR LBR MDG MYS MDV MUS MOZ OMN PAK PAN PHL SYC SOM ZAF LKA SDN TWNCHN TZA THA UK YEM | U57: =I57 -> N/A | V57: No fishing vessel operating in the IOTC Area of Competence | W57: 2 | X57: 30 | Y57: =W57+X57 -> 32
A58: 33 | B58: 3.2. | C58: IR | E58: CR | F58: x | H58: Particulars of charter agreements, catches, effort, observer coverage (Chartering CP) | I58: N/A | J58: NO | K58: YES | L58: NO | M58: 2 | N58: Fixed date | O58: Res. 19/07 (8) | P58: 28.02.2026 | R58: N/A | S58: LBR PAN | T58: ALL - AUS BDG CHN COM EUR FRAOT IND IDN IRN JPN KEN KOR LBR MDG MYS MDV MUS MOZ OMN PAK PAN PHL SYC SOM ZAF LKA SDN TWNCHN TZA THA UK YEM | U58: =I58 -> N/A | V58: No fishing vessel operating in the IOTC Area of Competence | W58: 2 | X58: 30 | Y58: =W58+X58 -> 32
A59: 34 | B59: 3.3. | D59: CQ | E59: CR | F59: x | H59: Information on the particulars of the charter agreements and detail of vessels (Chartering CP) | I59: N/A | J59: NO | K59: YES | L59: NO | M59: 2 | N59: Same as CQ | O59: Res. 19/07 (4.1) | P59: =Q8 -> 20.02.2027 | R59: N/A | S59: LBR PAN | T59: ALL - AUS BDG CHN COM EUR FRAOT IND IDN IRN JPN KEN KOR LBR MDG MYS MDV MUS MOZ OMN PAK PAN PHL SYC SOM ZAF LKA SDN TWNCHN TZA THA UK YEM | U59: =I59 -> N/A | V59: No fishing vessel operating in the IOTC Area of Competence | W59: 2 | X59: 30 | Y59: =W59+X59 -> 32
A60: 35 | B60: 3.4. | D60: CQ | E60: CR | F60: x | H60: Consent, measures, agreement implementation of IOTC CMMs (Flag CPC) | I60: N/A | J60: NO | K60: YES | L60: NO | M60: 2 | N60: Same as CQ | O60: Res. 19/07 (4.2) | P60: =Q8 -> 20.02.2027 | R60: N/A | S60: LBR PAN | T60: ALL - AUS BDG CHN COM EUR FRAOT IND IDN IRN JPN KEN KOR LBR MDG MYS MDV MUS MOZ OMN PAK PAN PHL SYC SOM ZAF LKA SDN TWNCHN TZA THA UK YEM | U60: =I60 -> N/A | V60: No fishing vessel operating in the IOTC Area of Competence | W60: 2 | X60: 30 | Y60: =W60+X60 -> 32
A61: 36 | B61: 3.5. | D61: CQ | E61: CR | F61: x | H61: Start, suspension, resumption and termination of the fishing operations of chartering agreement | I61: N/A | J61: NO | K61: YES | L61: NO | M61: 2 | N61: Same as CQ | O61: Res. 19/07 (6) | P61: =Q8 -> 20.02.2027 | R61: N/A | S61: LBR PAN | T61: ALL - AUS BDG CHN COM EUR FRAOT IND IDN IRN JPN KEN KOR LBR MDG MYS MDV MUS MOZ OMN PAK PAN PHL SYC SOM ZAF LKA SDN TWNCHN TZA THA UK YEM | U61: =I61 -> N/A | V61: No fishing vessel operating in the IOTC Area of Competence | W61: 2 | X61: 30 | Y61: =W61+X61 -> 32
A62: 37 | B62: 3.6. | D62: CQ | E62: CR | F62: x | H62: List of Authorized vessels | I62: N/A | J62: NO | K62: YES | L62: NO | M62: 0 | N62: Same as CQ | O62: Res. 19/04 (3) | P62: =Q8 -> 20.02.2027 | R62: N/A | S62: NONE | T62: NONE | U62: =I62 -> N/A | W62: 0 | X62: 32 | Y62: =W62+X62 -> 32
A63: 38 | B63: 3.7 | D63: CQ | E63: CR | F63: x | H63: List of foreign vessels licensed in EEZ | I63: N/A | J63: NO | K63: YES | L63: NO | M63: 7 | N63: Fixed date | O63: Res. 14/05 (1) | P63: 15.02.2026 | R63: N/A | S63: CHN, JPN, KOR, LBR, PAN, PHL, TWNCHN | T63: AUS BDG COM EUR FRAOT IND IDN IRN KEN MDG MYS MDV MUS MOZ OMN PAK SYC SOM ZAF LKA SDN TZA THA UK YEM | U63: =I63 -> N/A | V63: Not a coastal State located in the IOTC area of competence | W63: 7 | X63: 25 | Y63: =W63+X63 -> 32
A64: 39 | B64: 3.8 | D64: CQ | E64: CR | F64: x | H64: List of foreign vessels denied a licence | I64: N/A | J64: NO | K64: YES | L64: NO | M64: 7 | N64: Fixed date | O64: Res. 14/05 (6) | P64: 15.02.2026 | R64: N/A | S64: CHN, JPN, KOR, LBR, PAN, PHL, TWNCHN | T64: AUS BDG COM EUR FRAOT IND IDN IRN KEN MDG MYS MDV MUS MOZ OMN PAK SYC SOM ZAF LKA SDN TZA THA UK YEM | U64: =I64 -> N/A | V64: Not a coastal State located in the IOTC area of competence | W64: 7 | X64: 25 | Y64: =W64+X64 -> 32
A65: 40 | B65: 3.9 | C65: IR | E65: CR | F65: x | H65: Access Agreement information | I65: N/A | J65: NO | K65: YES | L65: NO | M65: 2 | N65: Same as CQ | O65: Res. 14/05 (3&5) | P65: =Q8 -> 20.02.2027 | R65: N/A | S65: LBR PAN | T65: ALL - AUS BDG CHN COM EUR FRAOT IND IDN IRN JPN KEN KOR LBR MDG MYS MDV MUS MOZ OMN PAK PAN PHL SYC SOM ZAF LKA SDN TWNCHN TZA THA UK YEM | U65: =I65 -> N/A | V65: No fishing vessel operating in the IOTC Area of Competence | W65: 2 | X65: 30 | Y65: =W65+X65 -> 32
A66: 41 | B66: 3.10. | D66: CQ | E66: CR | F66: x | H66: Official coastal State fishing License | I66: N/A | J66: NO | K66: YES | L66: NO | M66: 7 | N66: Same as CQ | O66: Res. 14/05 (7, 8) | P66: =Q8 -> 20.02.2027 | R66: N/A | S66: CHN, JPN, KOR, LBR, PAN, PHL, TWNCHN | T66: AUS BDG COM EUR FRAOT IND IDN IRN KEN MDG MYS MDV MUS MOZ OMN PAK SYC SOM ZAF LKA SDN TZA THA UK YEM | U66: =I66 -> N/A | V66: Not a coastal State located in the IOTC area of competence | W66: 7 | X66: 25 | Y66: =W66+X66 -> 32
A67: 42 | B67: 3.11 | D67: CQ | E67: CR | F67: x | H67: List of vessels fishing for yellowfin tuna | I67: N/A | J67: NO | K67: YES | L67: NO | M67: 7 | N67: Same as CQ | O67: Res. 21/01 (26) | P67: =Q8 -> 20.02.2027 | R67: N/A | S67: LBR, PAN + OBJ: IRN, IND, MDG, OMN, SOM | T67: AUS BDG CHN COM EUR FRAOT IDN JPN KEN KOR MYS MDV MUS MOZ PAK PHL SYC ZAF LKA SDN TWNCHN TZA THA UK YEM | U67: =I67 -> N/A | V67: No fishing vessel operating in the IOTC Area of Competence or Objection to Resolution 21/01 or 19/01 | W67: 7 | X67: 25 | Y67: =W67+X67 -> 32
B68: 4 - Vessel Monitoring System / Système de surveillance des navires
A69: 43 | B69: 4.1 | C69: IR | E69: CR | F69: x | H69: Adoption VMS for all vessels > 24 m, and for vessels < 24 m fishing outside flag State’s EEZ VMS report on implementation and technical failures | I69: SP | J69: YES | K69: YES | L69: YES | N69: Fixed date | O69: Res. 15/03 (1, 2) | P69: 30.06.2025 | Q69: The obligation vessels to install & operate a satellite-based VMS | R69: SP, LEG | S69: NONE | T69: NONE | U69: =I69 -> SP | W69: 0 | X69: 32 | Y69: =W69+X69 -> 32
B70: 5 - Mandatory statistical requirement – Flag State CPCs / Statistiques obligatoires – CPC État du pavillon
A71: 44 | B71: 5.1 | D71: CQ | E71: CR | F71: x | H71: Nominal Catch / Report on zero catches matrix | I71: N/A | J71: NO | K71: YES | L71: NO | M71: 2 | N71: Fixed date | O71: 18/07 (para. 4) | P71: 30.06.2025 | R71: N/A | S71: LBR PAN | T71: ALL - AUS BDG CHN COM EUR FRAOT IND IDN IRN JPN KEN KOR LBR MDG MYS MDV MUS MOZ OMN PAK PAN PHL SYC SOM ZAF LKA SDN TWNCHN TZA THA UK YEM | U71: =I71 -> N/A | V71: No fishing vessel operating in the IOTC Area of Competence | W71: 2 | X71: 30 | Y71: =W71+X71 -> 32
A72: 45 | B72: 5.2 | D72: CQ | E72: CR | F72: x | H72: InteractionETPspecies CoC22cq | I72: N/A | J72: NO | K72: YES | L72: NO | M72: 2 | N72: Fixed date | O72: 12/04 (para. 3); 13/05 (para. 7); 23/06 (para. 9); 23/07 (para. 1) | P72: 30.06.2025 | R72: N/A | S72: LBR PAN | T72: ALL - AUS BDG CHN COM EUR FRAOT IND IDN IRN JPN KEN KOR LBR MDG MYS MDV MUS MOZ OMN PAK PAN PHL SYC SOM ZAF LKA SDN TWNCHN TZA THA UK YEM | U72: =I72 -> N/A | V72: No fishing vessel operating in the IOTC Area of Competence | W72: 2 | X72: 30 | Y72: =W72+X72 -> 32
A73: 46 | B73: 5.3 | D73: CQ | E73: CR | F73: x | H73: Reporting annual retained catches onboard - ALL FISHERIES (COASTAL,SURFACE, LONGLINE) | I73: N/A | K73: YES | L73: NO | M73: 2 | N73: Fixed date | O73: 15/01 (Annex II); 15/02 (para. 2); 17/05 (para. 6); 18/02 (2-3); 18/05 (para. 8) | P73: 30.06.2025 | R73: N/A | S73: LBR PAN | T73: ALL - AUS BDG CHN COM EUR FRAOT IND IDN IRN JPN KEN KOR LBR MDG MYS MDV MUS MOZ OMN PAK PAN PHL SYC SOM ZAF LKA SDN TWNCHN TZA THA UK YEM | U73: =I73 -> N/A | V73: No fishing vessel operating in the IOTC Area of Competence | W73: 2 | X73: 30 | Y73: =W73+X73 -> 32
A74: 47 | B74: 5.4 | D74: CQ | E74: CR | F74: x | H74: Reporting discarded catches data - IOTC species, sharks, turtles, seabirds, cetaceans, whale sharks, mobulids - All fisheries | I74: N/A | J74: NO | K74: YES | L74: NO | M74: 2 | N74: Fixed date | O74: 15/01 (Annex II); 15/02 (paras. 2-3); 17/05 (para. 6); 18/02 (para. 3); 18/05 (para. 8) | P74: 30.06.2025 | R74: N/A | S74: LBR PAN | T74: ALL - AUS BDG CHN COM EUR FRAOT IND IDN IRN JPN KEN KOR LBR MDG MYS MDV MUS MOZ OMN PAK PAN PHL SYC SOM ZAF LKA SDN TWNCHN TZA THA UK YEM | U74: =I74 -> N/A | V74: No fishing vessel operating in the IOTC Area of Competence | W74: 2 | X74: 30 | Y74: =W74+X74 -> 32
A75: 48 | B75: 5.5 | D75: CQ | E75: CR | F75: x | H75: Reporting data on Geo-referenced Catch and Effort – Fisheries Coastal, Surface, Longline, FADs effort (Days at sea (Effort) by supply vessels) | I75: N/A | J75: NO | K75: YES | L75: NO | M75: 2 | N75: Fixed date | O75: 15/01 (Annex II); 15/02 (para. 4); 17/05 (para. 6); 18/02 (paras. 2-3); 18/05 (para. 8) | P75: 30.06.2025 | R75: N/A | S75: LBR PAN | T75: ALL - AUS BDG CHN COM EUR FRAOT IND IDN IRN JPN KEN KOR LBR MDG MYS MDV MUS MOZ OMN PAK PAN PHL SYC SOM ZAF LKA SDN TWNCHN TZA THA UK YEM | U75: =I75 -> N/A | V75: No fishing vessel operating in the IOTC Area of Competence | W75: 2 | X75: 30 | Y75: =W75+X75 -> 32
A76: 49 | B76: 5.6 | D76: CQ | E76: CR | F76: x | H76: Reporting data on size frequency geo-referenced – Coastal, Surface, Longline fisheries | I76: N/A | J76: NO | K76: YES | L76: NO | M76: 2 | N76: Fixed date | O76: 15/01 (Annex II); 15/02 (para. 5); 17/05 (para. 6); 18/02 (para. 3); 18/05 (para. 8) | P76: 30.06.2025 | R76: N/A | S76: LBR PAN | T76: ALL - AUS BDG CHN COM EUR FRAOT IND IDN IRN JPN KEN KOR LBR MDG MYS MDV MUS MOZ OMN PAK PAN PHL SYC SOM ZAF LKA SDN TWNCHN TZA THA UK YEM | U76: =I76 -> N/A | V76: No fishing vessel operating in the IOTC Area of Competence | W76: 2 | X76: 30 | Y76: =W76+X76 -> 32
A77: 50 | B77: 5.7 | D77: CQ | E77: CR | F77: x | H77: Reporting on FAD – Drifting floating objects (DFOB) related activities (FADs set by type) | I77: N/A | J77: NO | K77: YES | L77: NO | M77: 21 | N77: Fixed date | O77: 15/02 (para. 6c); 24/02 (para. 11; Annex III) | P77: 30.06.2025 | R77: N/A | S77: BDG COM CHN FRAOT IND LBR MDG MYS MDV MOZ PAK PAN PHL SOM ZAF LKA SDN THA UK YEM TWNCHN | T77: AUS EUR IDN IRN JPN KEN KOR MUS OMN SYC TZA | U77: =I77 -> N/A | V77: No purse seiner / support vessel registered on the IOTC Record of Authorised Vessels . Not fishing on DFADs. | W77: =M77 -> 21 | X77: =W9-W77 -> 11 | Y77: =W77+X77 -> 32
A78: 51 | B78: 5.8 | D78: CQ | E78: CR | F78: x | H78: Reporting on FAD – Number & characteristics of support vessels | I78: N/A | J78: NO | K78: YES | L78: NO | M78: 21 | N78: Fixed date | O78: 15/02 (para. 6a) | P78: 30.06.2025 | R78: N/A | S78: BDG COM CHN FRAOT IND LBR MDG MYS MDV MOZ PAK PAN PHL SOM ZAF LKA SDN THA UK YEM TWNCHN | T78: AUS EUR IDN IRN JPN KEN KOR MUS OMN SYC TZA | U78: =I78 -> N/A | V78: No purse seiner / support vessel registered on the IOTC Record of Authorised Vessels . Not fishing on DFADs. | W78: =M78 -> 21 | X78: =W9-W78 -> 11 | Y78: =W78+X78 -> 32
A79: 52 | B79: 5.9 | D79: CQ | E79: CR | F79: x | H79: Reporting on AFAD related activities | I79: N/A | J79: NO | K79: YES | L79: NO | M79: 7 | N79: Fixed date | O79: 23/01 (para. 11; Annex II) | P79: 30.06.2025 | R79: N/A | S79: CHN, JPN, KOR, LBR, PAN, PHL, TWNCHN | T79: AUS BDG COM EUR FRAOT IND IDN IRN KEN MDG MYS MDV MUS MOZ OMN PAK SYC SOM ZAF LKA SDN TZA THA UK YEM | U79: =I79 -> N/A | V79: Not a coastal State located in the IOTC area of competence | W79: =M79 -> 7 | X79: =W9-W79 -> 25 | Y79: =W79+X79 -> 32
A80: 53 | B80: 5.10. | D80: CQ | E80: CR | F80: x | H80: Reporting on FAD – Number of active DFADs | I80: N/A | J80: NO | K80: YES | L80: NO | M80: 21 | N80: Fixed date | O80: Res. 24/02 (16,19,23) | P80: Before 1st of month | R80: N/A | S80: BDG COM CHN FRAOT IND LBR MDG MYS MDV MOZ PAK PAN PHL SOM ZAF LKA SDN THA UK YEM TWNCHN | T80: AUS EUR IDN IRN JPN KEN KOR MUS OMN SYC TZA | U80: =I80 -> N/A | V80: No purse seiner / support vessel registered on the IOTC Record of Authorised Vessels . Not fishing on DFADs. | W80: =M80 -> 21 | X80: =W9-W80 -> 11 | Y80: =W80+X80 -> 32
B81: 5.11 | D81: CQ | G81: x | H81: Reporting on fishing craft statistics | J81: NO | K81: NO | L81: NO | M81: 2 | N81: Fixed date | O81: UNFSA | P81: 30.06.2025 | R81: N/A | S81: LBR PAN | T81: ALL - AUS BDG CHN COM EUR FRAOT IND IDN IRN JPN KEN KOR LBR MDG MYS MDV MUS MOZ OMN PAK PAN PHL SYC SOM ZAF LKA SDN TWNCHN TZA THA UK YEM | U81: =I81 -> 0 | V81: No fishing vessel operating in the IOTC Area of Competence | W81: =M81 -> 2 | X81: =W9-W81 -> 30 | Y81: =W81+X81 -> 32
B82: 5.12 | D82: CQ | G82: x | H82: B - Reporting on fish prices | J82: NO | K82: NO | L82: NO | M82: 2 | N82: Fixed date | O82: AGREEMENT | P82: 30.06.2025 | R82: N/A | S82: LBR PAN | T82: ALL - AUS BDG CHN COM EUR FRAOT IND IDN IRN JPN KEN KOR LBR MDG MYS MDV MUS MOZ OMN PAK PAN PHL SYC SOM ZAF LKA SDN TWNCHN TZA THA UK YEM | U82: =I82 -> 0 | V82: No fishing vessel operating in the IOTC Area of Competence | W82: =M82 -> 2 | X82: =W9-W82 -> 30 | Y82: =W82+X82 -> 32
A83: 54 | B83: 5.13 | C83: IR | E83: CR | F83: x | H83: NPOA Sharks R25/08 | I83: N/A | J83: NO | K83: YES | L83: NO | M83: 2 | N83: Same as IR | O83: 25/08 (para. 37) | P83: =Q7 -> 12.03.2027 | R83: N/A | S83: LBR PAN | T83: ALL - AUS BDG CHN COM EUR FRAOT IND IDN IRN JPN KEN KOR LBR MDG MYS MDV MUS MOZ OMN PAK PAN PHL SYC SOM ZAF LKA SDN TWNCHN TZA THA UK YEM | U83: =I83 -> N/A | V83: No fishing vessel operating in the IOTC Area of Competence | W83: =M83 -> 2 | X83: =W9-W83 -> 30 | Y83: =W83+X83 -> 32
B84: 6 - Implementation of mitigation measures and bycatch of non-IOTC species / Mise en place de mesures d’atténuation et prises accessoires d’espèces hors du mandat de la CTOI
A85: 55 | B85: 6.1. | D85: CQ | E85: CR | F85: x | H85: Prohibition on sharks finning and associated obligations | I85: SP | J85: YES | K85: YES | L85: YES | M85: 5 | N85: Same as CQ | O85: Res. 25/08 (5, 6, 7) | P85: =Q8 -> 20.02.2027 | Q85: The Prohibition of shark finning | R85: SP, LEG | S85: LBR PAN PHL ; Obj IND SOM | T85: AUS BDG CHN COM EUR FRAOT IDN IRN JPN KEN KOR MDG MYS MDV MUS MOZ OMN PAK SYC ZAF LKA SDN TWNCHN TZA THA UK YEM | U85: =I85 -> SP | V85: No fishing, supply, recreational / sport fishing vessel targeting / authorised to fish for IOTC Species in the IOTC area of competence; Obj Resolution 25/08 | W85: =M85 -> 5 | X85: =W9-W85 -> 27 | Y85: =W85+X85 -> 32
B86: 6.1. Obj25/08 | H86: Prohibition on sharks finning | J86: YES | K86: YES | L86: YES | N86: Same as CQ | O86: Res. 17/05 (3) | P86: =Q8 -> 20.02.2027 | Q86: The Prohibition of shark finning | R86: SP, LEG | S86: AUS BDG CHN COM EUR FRAOT IDN IRN JPN KEN KOR LBR MDG MYS MDV MUS MOZ OMN PAK PAN PHL SYC ZAF LKA SDN TWNCHN TZA THA UK YEM | T86: Obj: IND SOM | U86: =I86 -> 0 | V86: Reason for inclusion: Obj Resolution 25/08 | W86: 30 | X86: =W9-W86 -> 2 | Y86: =W86+X86 -> 32
A87: 56 | B87: 6.2. | D87: CQ | E87: CR | F87: x | H87: Prohibitions/obligations on thresher sharks (family Alopiidae) | I87: SP | J87: YES | K87: YES | L87: YES | M87: 5 | N87: Same as CQ | O87: Res. 25/08 (3b), 22a), 23a) b)) | P87: =Q8 -> 20.02.2027 | Q87: Prohibition to retain on board, tranship, land, store Obligation to promptly release Obligation to: flag recreational and sport fishing vessels, release alive Obligation to: flag recreational and sport fishing vessels, be equipped with instruments suitable to release thresher sharks of all the species of the family Alopiidae (CQ) | R87: SP, LEG | S87: LBR PAN PHL ; Obj IND SOM | T87: AUS BDG CHN COM EUR FRAOT IDN IRN JPN KEN KOR MDG MYS MDV MUS MOZ OMN PAK SYC ZAF LKA SDN TWNCHN TZA THA UK YEM | U87: =I87 -> SP | V87: No fishing, supply, recreational / sport fishing vessel targeting / authorised to fish for IOTC Species in the IOTC area of competence; Obj Resolution 25/08 | W87: =M87 -> 5 | X87: =W9-W87 -> 27 | Y87: =W87+X87 -> 32
B88: 6.2. Obj25/08 | H88: Prohibitions on thresher sharks (family Alopiidae) | J88: YES | K88: YES | L88: YES | N88: Same as CQ | O88: Res. 12/09 (2) | P88: =Q8 -> 20.02.2027 | Q88: The prohibition from retaining on board, transhipping, landing, storing, selling or offering for sale any part or whole carcass of thresher sharks of all the species of the family Alopiidae | R88: SP, LEG | S88: AUS BDG CHN COM EUR FRAOT IDN IRN JPN KEN KOR LBR MDG MYS MDV MUS MOZ OMN PAK PAN PHL SYC ZAF LKA SDN TWNCHN TZA THA UK YEM | T88: Obj: IND SOM | U88: =I88 -> 0 | V88: Reason for inclusion: Obj Resolution 25/08 | W88: 30 | X88: =W9-W88 -> 2 | Y88: =W88+X88 -> 32
A89: 57 | B89: 6.3. | D89: CQ | E89: CR | F89: x | H89: Prohibitions/obligations on oceanic whitetip sharks | I89: SP | J89: YES | K89: YES | L89: YES | M89: 5 | N89: Same as CQ | O89: Res. 25/08 (3b), 22a), 23a) b)) | P89: =Q8 -> 20.02.2027 | Q89: Prohibition to retain on board, tranship, land, store Obligation to promptly release Obligation to: flag recreational and sport fishing vessels, release alive Obligation to: flag recreational and sport fishing vessels, be equipped with instruments suitable to release ﻿any part or whole carcass of oceanic whitetip sharks | R89: SP, LEG | S89: LBR PAN PHL ; Obj IND SOM | T89: AUS BDG CHN COM EUR FRAOT IDN IRN JPN KEN KOR MDG MYS MDV MUS MOZ OMN PAK SYC ZAF LKA SDN TWNCHN TZA THA UK YEM | U89: =I89 -> SP | V89: No fishing, supply, recreational / sport fishing vessel targeting / authorised to fish for IOTC Species in the IOTC area of competence; Obj Resolution 25/08 | W89: =M89 -> 5 | X89: =W9-W89 -> 27 | Y89: =W89+X89 -> 32
A90: 57 | B90: 6.3. Obj25/08 | H90: Prohibitions on oceanic whitetip sharks | J90: YES | K90: YES | L90: YES | N90: Same as CQ | O90: Res. 13/06 (3) | P90: =Q8 -> 20.02.2027 | Q90: The prohibition on oceanic whitetip sharks | R90: SP, LEG | S90: AUS BDG CHN COM EUR FRAOT IDN IRN JPN KEN KOR LBR MDG MYS MDV MUS MOZ OMN PAK PAN PHL SYC ZAF LKA SDN TWNCHN TZA THA UK YEM | T90: Obj: IND SOM | U90: =I90 -> 0 | V90: Reason for inclusion: Obj Resolution 25/08 | W90: 30 | X90: =W9-W90 -> 2 | Y90: =W90+X90 -> 32
A91: 58 | B91: 6.4 | D91: CQ | E91: CR | F91: x | H91: Prohibition to retain onboard, tranship, land, store mobulid rays | I91: SP | J91: YES | K91: YES | L91: YES | M91: 4 | N91: Same as CQ | O91: Res. 19/03 (3) | P91: =Q8 -> 20.02.2027 | Q91: The prohibition of retaining onboard, transhipping, landing, storing, any part or whole carcass of mobulid rays caught in the IOTC Area of Competence | R91: SP, LEG | S91: LBR PHL UK PAN | T91: AUS BDG CHN COM EUR FRAOT IND IDN IRN JPN KEN KOR MDG MYS MDV MUS MOZ OMN PAK SYC SOM ZAF LKA SDN TWNCHN TZA THA YEM | U91: =I91 -> SP | V91: Reason for exclusion: No flag fishing vessel operating in the IOTC area of Competence | W91: =M91 -> 4 | X91: =W9-W91 -> 28 | Y91: =W91+X91 -> 32
A92: 59 | B92: 6.5. | D92: CQ | E92: CR | F92: x | H92: Prohibition to gaff, lift by the gill slits/spiracles, punch holes through the bodies. Obligation to release alive, implementation of live release handling procedures of mobulid rays | I92: SP | J92: YES | K92: YES | L92: YES | M92: 4 | N92: Same as CQ | O92: Res. 19/03 (5, Annex 1) | P92: =Q8 -> 20.02.2027 | Q92: The prohibition to gaff, lift by the gill slits/spiracles, punch holes through the bodies of mobulid rays The obligation to release alive, implement of live release handling procedures of mobulid rays | R92: SP, LEG | S92: LBR PHL UK PAN | T92: AUS BDG CHN COM EUR FRAOT IND IDN IRN JPN KEN KOR MDG MYS MDV MUS MOZ OMN PAK SYC SOM ZAF LKA SDN TWNCHN TZA THA YEM | U92: =I92 -> SP | V92: Reason for exclusion: No flag fishing vessel operating in the IOTC area of Competence | W92: =M92 -> 4 | X92: =W9-W92 -> 28 | Y92: =W92+X92 -> 32
A93: 60 | B93: 6.6. | D93: CQ | E93: CR | F93: x | H93: Longliner carry & employ line cutters & de-hookers on board | I93: SP | J93: YES | K93: YES | L93: YES | M93: 12 | N93: Same as CQ | O93: Res. 12/04 (8) | P93: =Q8 -> 20.02.2027 | Q93: Longline vessels with the obligation to carry and employ line cutters and de-hookers on board | R93: SP, LEG | S93: BDG, COM, FRAOT, LBR, MOZ, PAN, PAK, SOM, PHL, SDN, UK, YEM | T93: AUS CHN EUR IND IDN IRN JPN KEN KOR MDG MYS MDV MUS OMN SYC ZAF LKA TWNCHN TZA THA | U93: =I93 -> SP | V93: No longline vessels on the IOTC Record of authorised Vessels | W93: =M93 -> 12 | X93: =W9-W93 -> 20 | Y93: =W93+X93 -> 32
A94: 61 | B94: 6.7. | D94: CQ | E94: CR | F94: x | H94: Carry dip nets (Purse seiners) | I94: SP | J94: YES | K94: YES | L94: YES | M94: 21 | N94: Same as CQ | O94: Res. 12/04 (9) | P94: =Q8 -> 20.02.2027 | Q94: Flag purse seine vessels to carry and employ dip nets on board | R94: SP, LEG | S94: BDG CHN COM FRAOT IND KOR LBR MDG MYS MDV MOZ PAK PAN PHL SOM ZAF LKA SDN TWNCHN THA UK YEM | T94: AUS EUR IDN IRN KEN JPN KOR MUS OMN SYC TZA | U94: =I94 -> SP | V94: No purse seine vessel on the IOTC Record of authorised Vessels | W94: =M94 -> 21 | X94: =W9-W94 -> 11 | Y94: =W94+X94 -> 32
A95: 62 | B95: 6.8. | D95: CQ | E95: CR | F95: x | H95: Implementation of mitigation measures south of 25°S | I95: SP | J95: YES | K95: YES | L95: YES | M95: 14 | N95: Same as CQ | O95: Res. 23/07 (5) | P95: =Q8 -> 20.02.2027 | Q95: The obligation, for all longline vessels, to use at least two of the three mitigation measures | R95: SP, LEG | S95: BDG COM FRAOT LBR MDV MOZ PAK PAN PHL SOM SDN THA UK YEM | T95: AUS, CHN, EUR, IDN, IND, IRN, JPN, KEN, KOR, LKA, MDG, MUS, MYS, OMN, SYC, TWNCHN, TZA, ZAF | U95: =I95 -> SP | V95: No longline vessels operating in the IOTC Area of Competence | W95: =M95 -> 14 | X95: =W9-W95 -> 18 | Y95: =W95+X95 -> 32
A96: 63 | B96: 6.9. | C96: IR | E96: CR | F96: x | H96: Report on progress of implementation of Res. 12/04 | I96: N/A | J96: NO | K96: YES | L96: NO | M96: 2 | N96: Same as IR | O96: Res. 12/04 (5) | P96: =Q7 -> 12.03.2027 | R96: N/A | S96: LBR PAN | T96: AUS BDG CHN COM EUR FRAOT IND IDN IRN JPN KEN KOR MDG MYS MDV MUS MOZ OMN PAK PHL SYC SOM ZAF LKA SDN TWNCHN TZA THA UK YEM | U96: =I96 -> N/A | V96: No fishing vessels on the IOTC Record of Authorised Vessels AND CPC is not a coastal State of the IOTC Area of Competence. | W96: =M96 -> 2 | X96: =W9-W96 -> 30 | Y96: =W96+X96 -> 32
A97: 64 | B97: 6.10. | D97: CQ | E97: CR | F97: x | H97: Prohibition to retain on board, tranship, land, any Striped Marlin, Black Marlin, Blue Marlin, Indo-pacific Sailfish smaller than 60 cm Lower Jaw Fork Length | I97: SP | J97: YES | K97: YES | L97: YES | M97: 0 | N97: Same as CQ | O97: Res 18/05 (5) | P97: =Q8 -> 20.02.2027 | Q97: The prohibition to retain on board, tranship, land, any Striped Marlin, Black Marlin, Blue Marlin, and Indo-pacific Sailfish smaller than 60 cm Lower Jaw Fork Length | R97: SP, LEG | S97: NONE | T97: ALL - AUS BDG CHN COM EUR FRAOT IND IDN IRN JPN KEN KOR LBR MDG MYS MDV MUS MOZ OMN PAK PAN PHL SYC SOM ZAF LKA SDN TWNCHN TZA THA UK YEM | U97: =I97 -> SP | V97: N/A | W97: =M97 -> 0 | X97: =W9-W97 -> 32 | Y97: =W97+X97 -> 32
A98: 65 | B98: 6.11. | D98: CQ | E98: CR | F98: x | H98: Retention of target tuna species (YFT/SKJ/ BET) on board | I98: SP | J98: YES | K98: YES | L98: YES | M98: 12 | N98: Same as CQ | O98: Res 24/06 (1) | P98: =Q8 -> 20.02.2027 | Q98: The obligation to retain on board and then land all bigeye tuna, skipjack tuna, and yellowfin tuna caught | R98: SP, LEG | S98: BDG COM FRAOT LBR MOZ PAK PAN PHL SOM SDN UK YEM | T98: AUS CHN EUR IND IDN IRN JPN KEN KOR MDG MYS MDV MUS OMN SYC ZAF LKA TWNCHN TZA THA | U98: =I98 -> SP | V98: NO fishing vessel on the Record of Authorised Vessels operating in the IOTC Area of Competence | W98: =M98 -> 12 | X98: =W9-W98 -> 20 | Y98: =W98+X98 -> 32
A99: 66 | B99: 6.12. | D99: CQ | E99: CR | F99: x | H99: Retention of non target species on board | I99: SP | J99: YES | K99: YES | L99: YES | M99: 12 | N99: Same as CQ | O99: Res 24/06 (3) | P99: =Q7 -> 12.03.2027 | Q99: The obligation to retain on board and then land, to the extent practicable, the following non-targeted species or species group; other tunas, rainbow runner, dolphinfish, triggerfish, billfish, wahoo, and barracuda | R99: SP, LEG | S99: BDG COM FRAOT LBR MOZ PAK PAN PHL SOM SDN UK YEM | T99: AUS CHN EUR IND IDN IRN JPN KEN KOR MDG MYS MDV MUS OMN SYC ZAF LKA TWNCHN TZA THA | U99: =I99 -> SP | V99: NO fishing vessel on the Record of Authorised Vessels operating in the IOTC Area of Competence | W99: =M99 -> 12 | X99: =W9-W99 -> 20 | Y99: =W99+X99 -> 32
A100: 67 | B100: 6.13 | D100: CQ | E100: CR | F100: x | H100: Prohibition on shortfin or longfin mako sharks | I100: SP | J100: YES | K100: YES | L100: YES | M100: 6 | N100: Same as CQ | O100: Res. 25/09 (2, 3, 4) | P100: =Q8 -> 20.02.2027 | Q100: 2 prohibitions & the 2 obligations shortfin mako sharks (Isurus oxyrinchus) and longfin mako sharks (Isurus paucus) | R100: NONE - NEW RESOLUTION | S100: FRAOT LBR PAN PHL + Obj IND SOM | T100: AUS BDG CHN COM EUR IDN IRN JPN KEN KOR MDG MYS MDV MUS MOZ OMN PAK SYC ZAF LKA SDN TWNCHN TZA THA UK YEM | U100: =I100 -> SP | V100: No CPC flag vessel operating in the IOTC area of Competence AND No coastal fisheries active in the IOTC Area of Competence; Obj Resolution 25/09 | W100: =M100 -> 6 | X100: =W9-W100 -> 26 | Y100: =W100+X100 -> 32
A101: 68 | B101: 6.14 (Ex 2.25.) | D101: CQ | E101: CR | F101: x | H101: Prohibition of intentionnally setting purse seine net around a cetacean | I101: SP | J101: YES | K101: YES | L101: YES | M101: 21 | N101: Same as CQ | O101: Res 23/06 (2) | P101: =Q8 -> 20.02.2027 | Q101: The prohibition from intentionally setting purse seine net around a cetacean | R101: SP, LEG | S101: BDG CHN COM FRAOT IND KOR LBR MDG MYS MDV MOZ PAK PAN PHL SOM ZAF LKA SDN TWNCHN THA UK YEM | T101: AUS EUR IDN IRN KEN JPN KOR MUS OMN SYC TZA | U101: =I101 -> SP | V101: No purse seine vessel on the IOTC Record of authorised Vessels | W101: =M101 -> 21 | X101: =W9-W101 -> 11 | Y101: =W101+X101 -> 32
A102: 69 | B102: 6.15 (Ex 2.26.) | D102: CQ | E102: CR | F102: x | H102: Whale sharks: Prohibition to retain, to intentionally set purse seine net around, and associated obligations | I102: SP | J102: YES | K102: YES | L102: YES | M102: 21 | N102: Same as CQ | O102: Res. 25/08 (3b), 22a), 23a) b), 28, 29, 30) | P102: =Q8 -> 20.02.2027 | Q102: i) Prohibition to: flag vessels, retain onboard, tranship, land, store any part or whole carcass of whale shark ii) Prohibition to: flag vessels, set a purse seine net around a whale shark iii) Obligation to: flag vessels, promptly release whale sharks iv) Obligation to: flag vessel master, report the incident of interaction with a whale shark to the relevant authority of the flag State v) Obligation to: flag recreational and sport fishing vessels, release alive whale sharks vi) Obligation to: flag recreational and sport fishing vessels, be equipped with instruments suitable to release whale sharks | R102: SP, LEG | S102: LBR PAN PHL ; Obj IND SOM | T102: AUS BDG CHN COM EUR FRAOT IDN IRN JPN KEN KOR MDG MYS MDV MUS MOZ OMN PAK SYC ZAF LKA SDN TWNCHN TZA THA UK YEM | U102: =I102 -> SP | V102: No fishing, supply, recreational / sport fishing vessel targeting / authorised to fish for IOTC Species in the IOTC area of competence; Obj Resolution 25/08 | W102: =M102 -> 21 | X102: =W9-W102 -> 11 | Y102: =W102+X102 -> 32
...

Sheet Summary
A6: Name of the e-MARIS campaign | B6: CoC24 - 2027 assessment
A7: Start: | B7: 46023
A8: End: | B8: Commission meeting 2027
A9: Assessment conducted in year: | B9: 2027
A10: Reporting year on / Year assessed: | B10: 2026/2025
A11: Total number of requirements (Including IR and CQ): | B11: ='eMaris CoC24'!C8+'eMaris CoC24'!C9 -> 105
A12: Number of assessed requirements: | B12: ='eMaris CoC24'!C8 -> 92
A13: Number of not assessed requirements: | B13: ='eMaris CoC24'!C9 -> 13
A14: Number of requirements with reporting on System and procedures (SP): | B14: ='eMaris CoC24'!I7 -> 42
A15: Number of requirements where SP is not applicable: | B15: ='eMaris CoC24'!I8 -> 51
A16: Reporting effort by deadline type: (All 86 assessed requirements) | B16: IR | C16: CQ | D16: Fixed Date
B17: ='eMaris CoC24'!N8 -> 33 | C17: ='eMaris CoC24'!N9 -> 56 | D17: ='eMaris CoC24'!N10 -> 27
A18: Distribution of requirements in reports : | B18: IR | C18: CQ | D18: CR
B19: ='eMaris CoC24'!F8 -> 32 | C19: ='eMaris CoC24'!F9 -> 72 | D19: ='eMaris CoC24'!F10 -> 92
A20: CPC Excluded/Included - Automatic assessment Not Applicable (N/A): | B20: ='eMaris CoC24'!I10 -> 0 | C20: of | D20: =B12*31 -> 2852
A25: Category/Section | B25: Requirement Assessed | C25: Not Assessed
A26: 1 - Implementation obligations* | B26: 4 | C26: 0
A27: 2 - Management standards | B27: 26 | C27: 1
A28: 3 - Reporting on vessels | B28: 11 | C28: 0
A29: 4 - Vessel monitoring system | B29: 1 | C29: 0
A30: 5 - Mandatory statistical requirement – flag State CPCs | B30: 11 | C30: 2
A31: 6 - Implementation of mitigation measure and bycatch of non-IOTC species | B31: 16 | C31: 0
A32: 7 - Illegal, unreported and unregulated (IUU) vessels | B32: 2 | C32: 7
A33: 8 – Transhipments | B33: 7 | C33: 1
A34: 9 – Observers | B34: 4 | C34: 1
A35: 10 - Statistical document programme | B35: 4 | C35: 0
A36: 11 - Port inspection | B36: 6 | C36: 0
A37: 12 – Market measures | B37: None | C37: 1
A38: Total | B38: =SUM(B26:B36) -> 92 | C38: =SUM(C26:C37) -> 13
A39: *: Including IR and CQ under the tab “Reports” of e-MARIS.

Sheet Reminders Setting
A7: Description :
B8: Compliance assessment cycle concluding with the CoC24 in 2027 and the Commission (S31) meetings. Compliance assessment conducted in 2027 for the data and information submitted to the Secretariat for the years reporting on 2026 and also 2025.
B9: Cycle d'évaluation de la conformité se terminant par les réunions du CdA24 et de la Commission (S31) en 2027. Évaluation de la conformité effectuée en 2027 pour les données et informations soumises au Secrétariat pour les années de rapport sur 2026 et également 2025.
